BEGIN:VCALENDAR
VERSION:2.0
PRODID:-//Universidad Católica de Temuco - ECPv6.15.17.1//NONSGML v1.0//EN
CALSCALE:GREGORIAN
METHOD:PUBLISH
X-WR-CALNAME:Universidad Católica de Temuco
X-ORIGINAL-URL:https://extension.uct.cl
X-WR-CALDESC:Eventos para Universidad Católica de Temuco
REFRESH-INTERVAL;VALUE=DURATION:PT1H
X-Robots-Tag:noindex
X-PUBLISHED-TTL:PT1H
BEGIN:VTIMEZONE
TZID:America/Santiago
BEGIN:STANDARD
TZOFFSETFROM:-0300
TZOFFSETTO:-0400
TZNAME:-04
DTSTART:20240407T030000
END:STANDARD
BEGIN:DAYLIGHT
TZOFFSETFROM:-0400
TZOFFSETTO:-0300
TZNAME:-03
DTSTART:20240908T040000
END:DAYLIGHT
BEGIN:STANDARD
TZOFFSETFROM:-0300
TZOFFSETTO:-0400
TZNAME:-04
DTSTART:20250406T030000
END:STANDARD
BEGIN:DAYLIGHT
TZOFFSETFROM:-0400
TZOFFSETTO:-0300
TZNAME:-03
DTSTART:20250907T040000
END:DAYLIGHT
BEGIN:STANDARD
TZOFFSETFROM:-0300
TZOFFSETTO:-0400
TZNAME:-04
DTSTART:20260405T030000
END:STANDARD
BEGIN:DAYLIGHT
TZOFFSETFROM:-0400
TZOFFSETTO:-0300
TZNAME:-03
DTSTART:20260906T040000
END:DAYLIGHT
END:VTIMEZONE
BEGIN:VEVENT
DTSTART;TZID=America/Santiago:20251120T113000
DTEND;TZID=America/Santiago:20251122T180000
DTSTAMP:20260423T032220
CREATED:20251117T155832Z
LAST-MODIFIED:20251117T160423Z
UID:10000114-1763638200-1763834400@extension.uct.cl
SUMMARY:1° Feria Araucanía
DESCRIPTION:Este 20\, 21 y 22 de noviembre\, la 1° Feria Araucanía reunirá en el Museo Regional de La Araucanía a 18 agrupaciones de destacadas cultoras y cultores: 14 de La Araucanía\, 2 de Los Ríos y 2 Los Lagos\, dando vida a un nuevo espacio de comercialización\, difusión y puesta en valor del patrimonio artesanal del territorio sur\, que busca potenciar la asociatividad entre cultoras y cultores. Este proyecto es financiado por el Fondo Nacional de Desarrollo Cultural\, Fondart Regional de La Araucanía. Convocatoria 2025. \nLink de inscripciones gratuitas a talleres de\nhttps://forms.gle/D6pyFXmQXyRZsBNN8\n 
URL:https://extension.uct.cl/event/1-feria-araucania/
LOCATION:Museo Regional de La Araucanía\, Av. Alemania 84\, Temuco\, 4780000\, Chile
CATEGORIES:Exposición
ATTACH;FMTTYPE=image/webp:https://extension.uct.cl/wp-content/uploads/banner-feria-museo.webp
END:VEVENT
END:VCALENDAR