BEGIN:VCALENDAR
VERSION:2.0
PRODID:-//Universidad Católica de Temuco - ECPv6.15.17.1//NONSGML v1.0//EN
CALSCALE:GREGORIAN
METHOD:PUBLISH
X-WR-CALNAME:Universidad Católica de Temuco
X-ORIGINAL-URL:https://extension.uct.cl
X-WR-CALDESC:Eventos para Universidad Católica de Temuco
REFRESH-INTERVAL;VALUE=DURATION:PT1H
X-Robots-Tag:noindex
X-PUBLISHED-TTL:PT1H
BEGIN:VTIMEZONE
TZID:America/Santiago
BEGIN:STANDARD
TZOFFSETFROM:-0300
TZOFFSETTO:-0400
TZNAME:-04
DTSTART:20240407T030000
END:STANDARD
BEGIN:DAYLIGHT
TZOFFSETFROM:-0400
TZOFFSETTO:-0300
TZNAME:-03
DTSTART:20240908T040000
END:DAYLIGHT
BEGIN:STANDARD
TZOFFSETFROM:-0300
TZOFFSETTO:-0400
TZNAME:-04
DTSTART:20250406T030000
END:STANDARD
BEGIN:DAYLIGHT
TZOFFSETFROM:-0400
TZOFFSETTO:-0300
TZNAME:-03
DTSTART:20250907T040000
END:DAYLIGHT
BEGIN:STANDARD
TZOFFSETFROM:-0300
TZOFFSETTO:-0400
TZNAME:-04
DTSTART:20260405T030000
END:STANDARD
BEGIN:DAYLIGHT
TZOFFSETFROM:-0400
TZOFFSETTO:-0300
TZNAME:-03
DTSTART:20260906T040000
END:DAYLIGHT
END:VTIMEZONE
BEGIN:VEVENT
DTSTART;TZID=America/Santiago:20250930T100000
DTEND;TZID=America/Santiago:20250930T130000
DTSTAMP:20260423T032337
CREATED:20250915T153916Z
LAST-MODIFIED:20250915T154854Z
UID:10000096-1759226400-1759237200@extension.uct.cl
SUMMARY:Seminario Araucanía Cultural: CARAHUE
DESCRIPTION:Cultura\, bienestar e innovación social\nConferencia: «Teatro como herramienta de transformación social»\, Malucha Pinto\, actriz. \nMesa de conversación: «Cultura\, bienestar e innovación social» \nCentro de Salud Familiar\, Fundo el Carmen. \nPrograma Quiero mi barrio. \nServicio Local de Educación Costa Araucanía. (SLEPCA) \n\nMartes 30 de septiembre\, 10:00 hrs. \nCentro Cultural Municipalidad de Carahue\, Manuel Montt 295.
URL:https://extension.uct.cl/event/seminario-araucania-cultural-carahue/
LOCATION:Centro Cultural Municipal Carahue\, Manuel Montt 295\, Carahue\, Chile
ATTACH;FMTTYPE=image/webp:https://extension.uct.cl/wp-content/uploads/seminario-araucania-cultural.webp
ORGANIZER;CN="Programa Viva Comuna":MAILTO:vivacomuna@uct.cl
END:VEVENT
END:VCALENDAR