BEGIN:VCALENDAR
VERSION:2.0
PRODID:-//Universidad Católica de Temuco - ECPv6.15.17.1//NONSGML v1.0//EN
CALSCALE:GREGORIAN
METHOD:PUBLISH
X-WR-CALNAME:Universidad Católica de Temuco
X-ORIGINAL-URL:https://extension.uct.cl
X-WR-CALDESC:Eventos para Universidad Católica de Temuco
REFRESH-INTERVAL;VALUE=DURATION:PT1H
X-Robots-Tag:noindex
X-PUBLISHED-TTL:PT1H
BEGIN:VTIMEZONE
TZID:America/Santiago
BEGIN:STANDARD
TZOFFSETFROM:-0300
TZOFFSETTO:-0400
TZNAME:-04
DTSTART:20240407T030000
END:STANDARD
BEGIN:DAYLIGHT
TZOFFSETFROM:-0400
TZOFFSETTO:-0300
TZNAME:-03
DTSTART:20240908T040000
END:DAYLIGHT
BEGIN:STANDARD
TZOFFSETFROM:-0300
TZOFFSETTO:-0400
TZNAME:-04
DTSTART:20250406T030000
END:STANDARD
BEGIN:DAYLIGHT
TZOFFSETFROM:-0400
TZOFFSETTO:-0300
TZNAME:-03
DTSTART:20250907T040000
END:DAYLIGHT
BEGIN:STANDARD
TZOFFSETFROM:-0300
TZOFFSETTO:-0400
TZNAME:-04
DTSTART:20260405T030000
END:STANDARD
BEGIN:DAYLIGHT
TZOFFSETFROM:-0400
TZOFFSETTO:-0300
TZNAME:-03
DTSTART:20260906T040000
END:DAYLIGHT
END:VTIMEZONE
BEGIN:VEVENT
DTSTART;TZID=America/Santiago:20251001T110000
DTEND;TZID=America/Santiago:20251001T120000
DTSTAMP:20260423T015438
CREATED:20250915T143540Z
LAST-MODIFIED:20250915T144959Z
UID:10000091-1759316400-1759320000@extension.uct.cl
SUMMARY:Roberto Allende. Encuentro de Lutería y Guitarra.
DESCRIPTION:Cuerdas que narran\, maderas que respiran.\nRoberto Allende\, Luthier Maestro Artesano Aprendiz 2024\, miércoles 1 -11:00 hrs Cecrea
URL:https://extension.uct.cl/event/roberto-allende-encuentro-de-luteria-y-guitarra/
LOCATION:CECREA\, Vicuña Mackenna #270\, Temuco\, 4780000\, Chile
CATEGORIES:Taller
ATTACH;FMTTYPE=image/webp:https://extension.uct.cl/wp-content/uploads/luthier-roberto-.webp
ORGANIZER;CN="Academia de Artes Musicales":MAILTO:academiadeartesmusicales@uct.cl
END:VEVENT
END:VCALENDAR