BEGIN:VCALENDAR
VERSION:2.0
PRODID:-//Universidad Católica de Temuco - ECPv6.15.17.1//NONSGML v1.0//EN
CALSCALE:GREGORIAN
METHOD:PUBLISH
X-WR-CALNAME:Universidad Católica de Temuco
X-ORIGINAL-URL:https://extension.uct.cl
X-WR-CALDESC:Eventos para Universidad Católica de Temuco
REFRESH-INTERVAL;VALUE=DURATION:PT1H
X-Robots-Tag:noindex
X-PUBLISHED-TTL:PT1H
BEGIN:VTIMEZONE
TZID:America/Santiago
BEGIN:STANDARD
TZOFFSETFROM:-0300
TZOFFSETTO:-0400
TZNAME:-04
DTSTART:20240407T030000
END:STANDARD
BEGIN:DAYLIGHT
TZOFFSETFROM:-0400
TZOFFSETTO:-0300
TZNAME:-03
DTSTART:20240908T040000
END:DAYLIGHT
BEGIN:STANDARD
TZOFFSETFROM:-0300
TZOFFSETTO:-0400
TZNAME:-04
DTSTART:20250406T030000
END:STANDARD
BEGIN:DAYLIGHT
TZOFFSETFROM:-0400
TZOFFSETTO:-0300
TZNAME:-03
DTSTART:20250907T040000
END:DAYLIGHT
BEGIN:STANDARD
TZOFFSETFROM:-0300
TZOFFSETTO:-0400
TZNAME:-04
DTSTART:20260405T030000
END:STANDARD
BEGIN:DAYLIGHT
TZOFFSETFROM:-0400
TZOFFSETTO:-0300
TZNAME:-03
DTSTART:20260906T040000
END:DAYLIGHT
END:VTIMEZONE
BEGIN:VEVENT
DTSTART;TZID=America/Santiago:20250903T173000
DTEND;TZID=America/Santiago:20250903T183000
DTSTAMP:20260423T032352
CREATED:20250901T143839Z
LAST-MODIFIED:20250901T144802Z
UID:10000080-1756920600-1756924200@extension.uct.cl
SUMMARY:Taller: Hábitos de lectura
DESCRIPTION:Ediciones UCT\, Sureñas y Carlos Lloró presentan el taller: \nCómo diseñar buenos hábitos de lectura.\n  \n¿Libros largos o cuentos breves? ¿Leer por placer o por utilidad? ¿En papel\, digital o en audio? 🤔\nEn este taller\, el músico y escritor Carlos Lloró nos invita a reflexionar sobre estas preguntas y a descubrir herramientas prácticas y entretenidas para diseñar nuestros propios hábitos de lectura. \n🗓️ 03 de septiembre a las 17.30 horas\n📍 Sala 118 Campus Monseñor Sergio Contreras Navia\, Av. Alemania 0211
URL:https://extension.uct.cl/event/taller-habitos-de-lectura/
LOCATION:Campus Monseñor Sergio Contreras Navia\, Av. Alemania 0211\, Temuco\, Chile
CATEGORIES:Taller
ATTACH;FMTTYPE=image/webp:https://extension.uct.cl/wp-content/uploads/taller-habitos.webp
ORGANIZER;CN="Ediciones UCT":MAILTO:ediciones@uct.cl
END:VEVENT
END:VCALENDAR