BEGIN:VCALENDAR
VERSION:2.0
PRODID:-//Universidad Católica de Temuco - ECPv6.15.17.1//NONSGML v1.0//EN
CALSCALE:GREGORIAN
METHOD:PUBLISH
X-WR-CALNAME:Universidad Católica de Temuco
X-ORIGINAL-URL:https://extension.uct.cl
X-WR-CALDESC:Eventos para Universidad Católica de Temuco
REFRESH-INTERVAL;VALUE=DURATION:PT1H
X-Robots-Tag:noindex
X-PUBLISHED-TTL:PT1H
BEGIN:VTIMEZONE
TZID:America/Santiago
BEGIN:STANDARD
TZOFFSETFROM:-0300
TZOFFSETTO:-0400
TZNAME:-04
DTSTART:20230402T030000
END:STANDARD
BEGIN:DAYLIGHT
TZOFFSETFROM:-0400
TZOFFSETTO:-0300
TZNAME:-03
DTSTART:20230903T040000
END:DAYLIGHT
BEGIN:STANDARD
TZOFFSETFROM:-0300
TZOFFSETTO:-0400
TZNAME:-04
DTSTART:20240407T030000
END:STANDARD
BEGIN:DAYLIGHT
TZOFFSETFROM:-0400
TZOFFSETTO:-0300
TZNAME:-03
DTSTART:20240908T040000
END:DAYLIGHT
BEGIN:STANDARD
TZOFFSETFROM:-0300
TZOFFSETTO:-0400
TZNAME:-04
DTSTART:20250406T030000
END:STANDARD
BEGIN:DAYLIGHT
TZOFFSETFROM:-0400
TZOFFSETTO:-0300
TZNAME:-03
DTSTART:20250907T040000
END:DAYLIGHT
END:VTIMEZONE
BEGIN:VEVENT
DTSTART;TZID=America/Santiago:20240802T180000
DTEND;TZID=America/Santiago:20240830T200000
DTSTAMP:20260422T232133
CREATED:20240709T033038Z
LAST-MODIFIED:20240925T222834Z
UID:10000021-1722621600-1725048000@extension.uct.cl
SUMMARY:Exposición Witral Sala Exposiciones
DESCRIPTION:Exposición abierta de 10.00 a 18.00 horas. Puedes agendar tu visita guiada en el Formulario de Visita
URL:https://extension.uct.cl/event/inauguracion-exposicion-witral/
LOCATION:Sala de Exposiciones Campus San Francisco\, Manuel Montt #56\, Temuco\, Chile
CATEGORIES:Exposición
ATTACH;FMTTYPE=image/jpeg:https://extension.uct.cl/wp-content/uploads/witral.jpg
ORGANIZER;CN="Programa Sala de Exposiciones":MAILTO:salaexposiciones@uct.cl
END:VEVENT
BEGIN:VEVENT
DTSTART;TZID=America/Santiago:20240802T163000
DTEND;TZID=America/Santiago:20240802T173000
DTSTAMP:20260422T232133
CREATED:20240709T033759Z
LAST-MODIFIED:20240809T055123Z
UID:10000022-1722616200-1722619800@extension.uct.cl
SUMMARY:Inauguración Exposición Witral
DESCRIPTION:La propuesta visual de la obra de Lito Mille nos acerca al telar mapuche desde una lectura\nactualizada que relaciona los textiles ancestrales con la figura del código QR como\ncontenedor de información reservada y celosamente guardada en patrones geométricos\, a\nla cual se accede desde los dispositivos celulares.
URL:https://extension.uct.cl/event/exposicion-witral/
LOCATION:Sala de Exposiciones Campus San Francisco\, Manuel Montt #56\, Temuco\, Chile
CATEGORIES:Inauguración
ATTACH;FMTTYPE=image/png:https://extension.uct.cl/wp-content/uploads/qr.png
ORGANIZER;CN="Programa Sala de Exposiciones":MAILTO:salaexposiciones@uct.cl
END:VEVENT
BEGIN:VEVENT
DTSTART;TZID=America/Santiago:20240523T180000
DTEND;TZID=America/Santiago:20240523T190000
DTSTAMP:20260422T232133
CREATED:20240510T035945Z
LAST-MODIFIED:20240514T022836Z
UID:10000018-1716487200-1716490800@extension.uct.cl
SUMMARY:TRIADA Exposición Egresada/os FAAD
DESCRIPTION:28 de mayo – 12 de julio en la Sala de Exposiciones Campus San Francisco \nExposición de las obras de egreso de los estudiantes de la\nFAAD. Paralelamente también exponen sus trabajos en la Galería de Arte de Menchaca Lira\, donde también se realiza la inauguración de ambas exposiciones.
URL:https://extension.uct.cl/event/exposicion-egresada-os-faad/
LOCATION:Galería de Arte UCT\, Avenida Alemania 0422\, Temuco\, Chile
CATEGORIES:Inauguración
ATTACH;FMTTYPE=image/png:https://extension.uct.cl/wp-content/uploads/faad.png
ORGANIZER;CN="Programa Sala de Exposiciones":MAILTO:salaexposiciones@uct.cl
END:VEVENT
END:VCALENDAR