BEGIN:VCALENDAR
VERSION:2.0
PRODID:-//Universidad Católica de Temuco - ECPv6.15.17.1//NONSGML v1.0//EN
CALSCALE:GREGORIAN
METHOD:PUBLISH
X-ORIGINAL-URL:https://extension.uct.cl
X-WR-CALDESC:Eventos para Universidad Católica de Temuco
REFRESH-INTERVAL;VALUE=DURATION:PT1H
X-Robots-Tag:noindex
X-PUBLISHED-TTL:PT1H
BEGIN:VTIMEZONE
TZID:America/Santiago
BEGIN:STANDARD
TZOFFSETFROM:-0300
TZOFFSETTO:-0400
TZNAME:-04
DTSTART:20240407T030000
END:STANDARD
BEGIN:DAYLIGHT
TZOFFSETFROM:-0400
TZOFFSETTO:-0300
TZNAME:-03
DTSTART:20240908T040000
END:DAYLIGHT
BEGIN:STANDARD
TZOFFSETFROM:-0300
TZOFFSETTO:-0400
TZNAME:-04
DTSTART:20250406T030000
END:STANDARD
BEGIN:DAYLIGHT
TZOFFSETFROM:-0400
TZOFFSETTO:-0300
TZNAME:-03
DTSTART:20250907T040000
END:DAYLIGHT
BEGIN:STANDARD
TZOFFSETFROM:-0300
TZOFFSETTO:-0400
TZNAME:-04
DTSTART:20260405T030000
END:STANDARD
BEGIN:DAYLIGHT
TZOFFSETFROM:-0400
TZOFFSETTO:-0300
TZNAME:-03
DTSTART:20260906T040000
END:DAYLIGHT
END:VTIMEZONE
BEGIN:VEVENT
DTSTART;TZID=America/Santiago:20250707T150000
DTEND;TZID=America/Santiago:20250707T170000
DTSTAMP:20260424T025054
CREATED:20250704T153509Z
LAST-MODIFIED:20250704T222850Z
UID:10000065-1751900400-1751907600@extension.uct.cl
SUMMARY:Conversatorio Exposición "Afectos Varios" - Egresadas FAAD
DESCRIPTION:Conversatorio de la Exposición «Afectos Varios»\, con las estudiantes egresadas de FAAD que exponen sus obras. \nDesde distintos lenguajes expresivos contemporáneos\, estos proyectos interrogan formatos instalativos\, medios audiovisuales\, lenguajes escultóricos\, fotográficos y de documentación a modo de ir explorando diferentes contextos desde lo singular y lo colectivo. Esta selección de proyectos de titulación muestra diversas miradas sobre el presente del arte joven en nuestra región \n17.00 hrs.\nSala de Exposiciones San Francisco
URL:https://extension.uct.cl/event/conversatorio-exposicion-afectos-varios-egresadas-faad/
LOCATION:Sala de Exposiciones Campus San Francisco\, Manuel Montt #56\, Temuco\, Chile
CATEGORIES:Conversatorio
ATTACH;FMTTYPE=image/webp:https://extension.uct.cl/wp-content/uploads/afectos-1.webp
ORGANIZER;CN="Programa Sala de Exposiciones":MAILTO:salaexposiciones@uct.cl
END:VEVENT
BEGIN:VEVENT
DTSTART;TZID=America/Santiago:20250708T183000
DTEND;TZID=America/Santiago:20250708T203000
DTSTAMP:20260424T025054
CREATED:20250704T152403Z
LAST-MODIFIED:20250704T152427Z
UID:10000063-1751999400-1752006600@extension.uct.cl
SUMMARY:Certamen de piano. Barroco-Clásico.
DESCRIPTION:Presentación abierta al público donde los estudiantes de piano junto a su profesora Paola Alarcón\, interpretarán obras trabajadas durante el primer semestre correspondientes a los periodos Barroco y Clásico. Entre ellos los compositores:  Bach\, Scarlatti\, Mozart\, Haydn y Beethoven.
URL:https://extension.uct.cl/event/certamen-de-piano-barroco-clasico/
LOCATION:Auditorio Academia de Artes Musicales\, Avenida Alemania 0422\, Temuco\, Selecciona una provincia:\, Chile
CATEGORIES:Concierto
ATTACH;FMTTYPE=image/webp:https://extension.uct.cl/wp-content/uploads/certamen.webp
ORGANIZER;CN="Academia de Artes Musicales":MAILTO:academiadeartesmusicales@uct.cl
END:VEVENT
BEGIN:VEVENT
DTSTART;TZID=America/Santiago:20250709T190000
DTEND;TZID=America/Santiago:20250709T203000
DTSTAMP:20260424T025054
CREATED:20250704T153028Z
LAST-MODIFIED:20250704T153028Z
UID:10000064-1752087600-1752093000@extension.uct.cl
SUMMARY:Concierto Nancy San Martin
DESCRIPTION:Concierto «Una sola sangre» la más reciente obra de Nancy San Martín\, referente de la música intercultural de raíz mapuche\, quien a sus 71 años continúa siendo una voz activa por la memoria\, la interculturalidad y el canto como herramienta de transformación. Esta propuesta\, rinde homenaje a las comunidades del mundo desde una mirada profundamente humana\, fusionando ritmos latinoamericanos tradicionales y contemporáneos.
URL:https://extension.uct.cl/event/concierto-nancy-san-martin/
LOCATION:Aula Magna\, Manuel Montt 056\, Temuco\, Chile
CATEGORIES:Concierto
ATTACH;FMTTYPE=image/webp:https://extension.uct.cl/wp-content/uploads/nancy-san-martin.webp
ORGANIZER;CN="Programa Portal Art%C3%ADstico Aula Magna":MAILTO:aulamagna@uct.cl
END:VEVENT
END:VCALENDAR