BEGIN:VCALENDAR
VERSION:2.0
PRODID:-//Universidad Católica de Temuco - ECPv6.15.17.1//NONSGML v1.0//EN
CALSCALE:GREGORIAN
METHOD:PUBLISH
X-ORIGINAL-URL:https://extension.uct.cl
X-WR-CALDESC:Eventos para Universidad Católica de Temuco
REFRESH-INTERVAL;VALUE=DURATION:PT1H
X-Robots-Tag:noindex
X-PUBLISHED-TTL:PT1H
BEGIN:VTIMEZONE
TZID:America/Santiago
BEGIN:STANDARD
TZOFFSETFROM:-0300
TZOFFSETTO:-0400
TZNAME:-04
DTSTART:20240407T030000
END:STANDARD
BEGIN:DAYLIGHT
TZOFFSETFROM:-0400
TZOFFSETTO:-0300
TZNAME:-03
DTSTART:20240908T040000
END:DAYLIGHT
BEGIN:STANDARD
TZOFFSETFROM:-0300
TZOFFSETTO:-0400
TZNAME:-04
DTSTART:20250406T030000
END:STANDARD
BEGIN:DAYLIGHT
TZOFFSETFROM:-0400
TZOFFSETTO:-0300
TZNAME:-03
DTSTART:20250907T040000
END:DAYLIGHT
BEGIN:STANDARD
TZOFFSETFROM:-0300
TZOFFSETTO:-0400
TZNAME:-04
DTSTART:20260405T030000
END:STANDARD
BEGIN:DAYLIGHT
TZOFFSETFROM:-0400
TZOFFSETTO:-0300
TZNAME:-03
DTSTART:20260906T040000
END:DAYLIGHT
END:VTIMEZONE
BEGIN:VEVENT
DTSTART;TZID=America/Santiago:20250423T080000
DTEND;TZID=America/Santiago:20250625T233000
DTSTAMP:20260424T025032
CREATED:20250527T163159Z
LAST-MODIFIED:20250527T163159Z
UID:10000054-1745395200-1750894200@extension.uct.cl
SUMMARY:Concurso de publicaciones de libros académicos
DESCRIPTION:Ediciones UCT invita a la comunidad universitaria de la Universidad Católica de Temuco a participar en el Primer Concurso de Publicaciones Académicas 2025\, con el objetivo de visibilizar la investigación de distintas disciplinas y difundir obras que aporten de manera significativa a sus respectivos campos de estudio. Este concurso busca organizar las publicaciones de la editorial y expandir el impacto de la investigación universitaria más allá de las fronteras académicas tradicionales\, fortaleciendo el compromiso de la UCT con la producción académica de calidad y la VcM. \nTodos los antecedentes del concurso pueden ser revisados en el sitio de Ediciones UCT
URL:https://extension.uct.cl/event/concurso-de-publicaciones-de-libros-academicos/
LOCATION:Librería Ediciones UCT\, Manuel Montt #56\, Temuco\, Chile
ATTACH;FMTTYPE=image/webp:https://extension.uct.cl/wp-content/uploads/PORTADA-CONCURSO.webp
ORGANIZER;CN="Ediciones UCT":MAILTO:ediciones@uct.cl
END:VEVENT
BEGIN:VEVENT
DTSTART;TZID=America/Santiago:20250527T163000
DTEND;TZID=America/Santiago:20250527T183000
DTSTAMP:20260424T025032
CREATED:20250507T162600Z
LAST-MODIFIED:20250527T153358Z
UID:10000052-1748363400-1748370600@extension.uct.cl
SUMMARY:Memoria Implacable / Marichi Tukulpan
DESCRIPTION:Avant Premiere\nMargarita\, una joven académica mapuche\, descubre en un desconocido archivo en Berlín los testimonios de prisioneros mapuches expulsados de sus territorios durante las invasiones militares que fundaron Argentina y Chile. Conmovida por el descubrimiento\, emprende un viaje para seguir las rutas de deportación de sus antepasados. \nDirección: Paula Rodríguez Sickert \nInscripciones en el siguiente link: https://forms.gle/KXTWb66TLi21iXkQ9
URL:https://extension.uct.cl/event/memoria-implacable-marichi-tukulpan/
LOCATION:Aula Magna\, Manuel Montt 056\, Temuco\, Chile
CATEGORIES:documental
ATTACH;FMTTYPE=image/webp:https://extension.uct.cl/wp-content/uploads/portada-memoria.webp
ORGANIZER;CN="Programa Portal Art%C3%ADstico Aula Magna":MAILTO:aulamagna@uct.cl
END:VEVENT
BEGIN:VEVENT
DTSTART;VALUE=DATE:20250529
DTEND;VALUE=DATE:20250601
DTSTAMP:20260424T025032
CREATED:20250507T211539Z
LAST-MODIFIED:20250527T150327Z
UID:10000053-1748476800-1748735999@extension.uct.cl
SUMMARY:Festival de Jazz
DESCRIPTION:II Versión del Festival de Jazz\nTres días de música en vivo\, conversatorios y masterclass con artistas de primer nivel \n🔹Jueves 29\nYasmina Zack & Sebastián Castro\nMasterclass de improvisación vocal + concierto de jazz tradicional\, baladas y folklore del mundo. \nInscripción a las masterclass aquí \n🔸Viernes 30\nNelson Oliva Cuarteto\nConversatorio sobre John Coltrane + concierto homenaje a A Love Supreme. \n🔻Sábado 31\nBig Band Crisol + Ensamble de Jazz TEAP\nMasterclass de dirección de Big Band con Andrés Pérez + dos conciertos con identidad comunitaria y ancestral. \nDescarga el programa haciendo click aquí \nEntrada liberada a conciertos hasta agotar aforo
URL:https://extension.uct.cl/event/festival-de-jazz/
LOCATION:Aula Magna\, Manuel Montt 056\, Temuco\, Chile
CATEGORIES:Concierto
ATTACH;FMTTYPE=image/webp:https://extension.uct.cl/wp-content/uploads/portada-jazz.webp
ORGANIZER;CN="Programa Portal Art%C3%ADstico Aula Magna":MAILTO:aulamagna@uct.cl
END:VEVENT
END:VCALENDAR