BEGIN:VCALENDAR
VERSION:2.0
PRODID:-//Universidad Católica de Temuco - ECPv6.15.17.1//NONSGML v1.0//EN
CALSCALE:GREGORIAN
METHOD:PUBLISH
X-WR-CALNAME:Universidad Católica de Temuco
X-ORIGINAL-URL:https://extension.uct.cl
X-WR-CALDESC:Eventos para Universidad Católica de Temuco
REFRESH-INTERVAL;VALUE=DURATION:PT1H
X-Robots-Tag:noindex
X-PUBLISHED-TTL:PT1H
BEGIN:VTIMEZONE
TZID:America/Santiago
BEGIN:STANDARD
TZOFFSETFROM:-0300
TZOFFSETTO:-0400
TZNAME:-04
DTSTART:20230402T030000
END:STANDARD
BEGIN:DAYLIGHT
TZOFFSETFROM:-0400
TZOFFSETTO:-0300
TZNAME:-03
DTSTART:20230903T040000
END:DAYLIGHT
BEGIN:STANDARD
TZOFFSETFROM:-0300
TZOFFSETTO:-0400
TZNAME:-04
DTSTART:20240407T030000
END:STANDARD
BEGIN:DAYLIGHT
TZOFFSETFROM:-0400
TZOFFSETTO:-0300
TZNAME:-03
DTSTART:20240908T040000
END:DAYLIGHT
BEGIN:STANDARD
TZOFFSETFROM:-0300
TZOFFSETTO:-0400
TZNAME:-04
DTSTART:20250406T030000
END:STANDARD
BEGIN:DAYLIGHT
TZOFFSETFROM:-0400
TZOFFSETTO:-0300
TZNAME:-03
DTSTART:20250907T040000
END:DAYLIGHT
END:VTIMEZONE
BEGIN:VEVENT
DTSTART;TZID=America/Santiago:20241114T120000
DTEND;TZID=America/Santiago:20241218T000000
DTSTAMP:20260424T110125
CREATED:20241114T005525Z
LAST-MODIFIED:20241114T005525Z
UID:10000038-1731585600-1734480000@extension.uct.cl
SUMMARY:CO DEVENIR NARRATIVAS PARA FUTUROS POSIBLES
DESCRIPTION:IV BIENAL LATINOAMERICANA DE JOYERÍA CONTEMPORÁNEA \nMuestra que explora el arte de la joyería contemporánea como un viaje hacia futuros posibles. Con 73 piezas únicas de artistas de 22 países\, Co-Devenir te invita a descubrir cómo el arte portátil puede contar historias y conectar culturas.
URL:https://extension.uct.cl/event/co-devenir-narrativas-para-futuros-posibles/
LOCATION:Sala de Exposiciones Campus San Francisco\, Manuel Montt #56\, Temuco\, Chile
CATEGORIES:Inauguración
ATTACH;FMTTYPE=image/webp:https://extension.uct.cl/wp-content/uploads/bienal.webp
ORGANIZER;CN="Porgrama Artesania":MAILTO:partesania@uct.cl
END:VEVENT
BEGIN:VEVENT
DTSTART;TZID=America/Santiago:20241203T080000
DTEND;TZID=America/Santiago:20241207T170000
DTSTAMP:20260424T110125
CREATED:20241126T211041Z
LAST-MODIFIED:20241126T211541Z
UID:10000045-1733212800-1733590800@extension.uct.cl
SUMMARY:SAL XVIII Chiloé: Seminario de Arquitectura Latinoamericana
DESCRIPTION:A casi 40 años de su primera versión en Buenos Aires\, el seminario de arquitectura más importante del continente vuelve a activarse tras la pandemia y en su 18va versión desembarca en el archipiélago Chiloé.  Gracias a una alianza entre la Delegación Chiloé del Colegio de Arquitectos de Chile\, la Corporación de Estudios Urbanos y Arquitectónicos de Chiloé (CEUACH) \, la Universidad de Los Lagos y la Universidad del Bío Bío\, este mítico archipiélago será la próxima sede del Seminario de Arquitectura Latinoamericana\, SAL. \nEl SAL se llevará a cabo en Castro\, Chiloé. Principalmente en las instalaciones de la Universidad de Los Lagos – Sede Chiloé y el Centro Cultural Municipal de Castro.  \nEdiciones UCT estará presente con una selección de sus mejores libros representando a la Universidad Católica de Temuco \n 
URL:https://extension.uct.cl/event/sal-xviii-chiloe-seminario-de-arquitectura-latinoamericana/
LOCATION:Universidad de Los Lagos\, Ubaldo Mansilla 131\, 5700328 Castro\, Los Lagos\, Chile
CATEGORIES:Evento
ATTACH;FMTTYPE=image/webp:https://extension.uct.cl/wp-content/uploads/chiloe.webp
ORGANIZER;CN="Ediciones UCT":MAILTO:ediciones@uct.cl
END:VEVENT
BEGIN:VEVENT
DTSTART;TZID=America/Santiago:20241207T100000
DTEND;TZID=America/Santiago:20241208T170000
DTSTAMP:20260424T110125
CREATED:20241114T011513Z
LAST-MODIFIED:20241125T134909Z
UID:10000039-1733565600-1733677200@extension.uct.cl
SUMMARY:Ruta Cafetera
DESCRIPTION:Stand de librería de Ediciones UCT con las mejores obras de su catálogo\, en la exposición ruta cafetera. Tendremos la presentación del libro «Sofía y los dos reinos» del autor Sigisfredo Sandoval. \nMás de 30 cafeterías y tostadurías de la región\, junto a lo mejor de los emprendimientos gourmet y creativos para vivir una jornada llena de talleres\, charlas\, libros\, música y campeonatos. Habrá talleres de café\, talleres creativos para niños\, el Primer Campeonato Regional TNT V60 para mujeres baristas\, networking de tostadurías de café y actividades recreativas para toda la familia. \nOrganizan: Fundación Vilu Cultural @larutacafetera.cl @a.esencia.d @chaitunkoffee.cl \nPatrocinado por: @gorearaucania a través de @desarrollaraucania \, @munitemuco por medio de @dturismotemuco y @uctemuco a través de @extension.uctemuco
URL:https://extension.uct.cl/event/ruta-cafetera/
LOCATION:Museo Nacional Ferroviario Pablo Neruda\, Av. Barros Arana 0565\,\, Temuco\, Chile
CATEGORIES:Feria de libros
ATTACH;FMTTYPE=image/webp:https://extension.uct.cl/wp-content/uploads/ruta.webp
ORGANIZER;CN="Ediciones UCT":MAILTO:ediciones@uct.cl
END:VEVENT
BEGIN:VEVENT
DTSTART;TZID=America/Santiago:20241213T200000
DTEND;TZID=America/Santiago:20241213T220000
DTSTAMP:20260424T110125
CREATED:20241124T124011Z
LAST-MODIFIED:20241124T124011Z
UID:10000041-1734120000-1734127200@extension.uct.cl
SUMMARY:Dúo Sudamericano en Concierto
DESCRIPTION:Por primera vez en Temuco\, los guitarristas clásicos Javier Contreras y José Antonio Escobar\, con vasta trayectoria internacional.\nUn concierto especial para el conjunto\, no solo por una propuesta que recorrerá obras de España\, Chequia\, Argentina y Chile\, sino por un hito significativo: las guitarras que utilizaránfueron construidas por los luthiers regionales Patricio Lagos con Christopher Valenzuela\, siendo utilizadas por primera vez al público masivo en el coloso universitario. \nEl programa del recital incluirá obras de Enrique Granados\, Leoš Janáček\, Javier Contreras y Astor Piazzolla\, destacando la combinación de adaptaciones y piezas originales para dúo de guitarras. En esta ocasión se intrepretará Tango Suite de Piazzolla\, una obra compuesta. especialmente para dos guitarras tras la inspiración que el compositor argentino encontró en el dúo de los hermanos Assad. \nPor otro lado\, el dúo presentará «Cinco Minutos para Retornar» una composición de Javier Contreras\, que combina elementos de la tonada\, la milonga y la música contemporánea.
URL:https://extension.uct.cl/event/duo-sudamericano-en-concierto/
LOCATION:Aula Magna\, Manuel Montt 056\, Temuco\, Chile
CATEGORIES:Concierto
ATTACH;FMTTYPE=image/jpeg:https://extension.uct.cl/wp-content/uploads/duo.jpeg
ORGANIZER;CN="Programa Portal Art%C3%ADstico Aula Magna":MAILTO:aulamagna@uct.cl
END:VEVENT
END:VCALENDAR