BEGIN:VCALENDAR
VERSION:2.0
PRODID:-//Universidad Católica de Temuco - ECPv6.15.17.1//NONSGML v1.0//EN
CALSCALE:GREGORIAN
METHOD:PUBLISH
X-ORIGINAL-URL:https://extension.uct.cl
X-WR-CALDESC:Eventos para Universidad Católica de Temuco
REFRESH-INTERVAL;VALUE=DURATION:PT1H
X-Robots-Tag:noindex
X-PUBLISHED-TTL:PT1H
BEGIN:VTIMEZONE
TZID:America/Santiago
BEGIN:STANDARD
TZOFFSETFROM:-0300
TZOFFSETTO:-0400
TZNAME:-04
DTSTART:20240407T030000
END:STANDARD
BEGIN:DAYLIGHT
TZOFFSETFROM:-0400
TZOFFSETTO:-0300
TZNAME:-03
DTSTART:20240908T040000
END:DAYLIGHT
BEGIN:STANDARD
TZOFFSETFROM:-0300
TZOFFSETTO:-0400
TZNAME:-04
DTSTART:20250406T030000
END:STANDARD
BEGIN:DAYLIGHT
TZOFFSETFROM:-0400
TZOFFSETTO:-0300
TZNAME:-03
DTSTART:20250907T040000
END:DAYLIGHT
BEGIN:STANDARD
TZOFFSETFROM:-0300
TZOFFSETTO:-0400
TZNAME:-04
DTSTART:20260405T030000
END:STANDARD
BEGIN:DAYLIGHT
TZOFFSETFROM:-0400
TZOFFSETTO:-0300
TZNAME:-03
DTSTART:20260906T040000
END:DAYLIGHT
BEGIN:STANDARD
TZOFFSETFROM:-0300
TZOFFSETTO:-0400
TZNAME:-04
DTSTART:20270404T030000
END:STANDARD
BEGIN:DAYLIGHT
TZOFFSETFROM:-0400
TZOFFSETTO:-0300
TZNAME:-03
DTSTART:20270905T040000
END:DAYLIGHT
END:VTIMEZONE
BEGIN:VEVENT
DTSTART;TZID=America/Santiago:20251204T080000
DTEND;TZID=America/Santiago:20260605T003000
DTSTAMP:20260422T185808
CREATED:20251205T141034Z
LAST-MODIFIED:20260421T135156Z
UID:10000119-1764835200-1780619400@extension.uct.cl
SUMMARY:Convocatoria de Poesía Yosuke Kuramochi
DESCRIPTION:  \nEdiciones Universidad Católica de Temuco invita a autoras y autores del Sur de Chile a participar en la Segunda Convocatoria de la Colección de Poesía Yosuke Kuramochi. Inspirada en el poeta\, académico y artista cuya obra iluminó nuevas formas de mirar el territorio. \nSe trata de una iniciativa concebida como un espacio de interlocución para fortalecer el diálogo entre la Universidad y la comunidad literaria regional y viene a fomentar y reconocer el trabajo realizado por poetas en ejercicio de la región y del sur de Chile\, contribuyendo a enriquecer y expandir la tradición poética de la suralidad\, territorio donde la memoria\, el paisaje y el territorio se entrelazan en la escritura. \nVisita el sitio web de Ediciones UCT para más información en el siguiente link: Convocatoria Yosuke Kuramochi
URL:https://extension.uct.cl/event/convocatoria-de-poesia-yosuke-kuramochi/
LOCATION:Librería Ediciones UCT\, Manuel Montt #56\, Temuco\, Chile
CATEGORIES:convocatoria
ATTACH;FMTTYPE=image/webp:https://extension.uct.cl/wp-content/uploads/Kuramochi-scaled.webp
ORGANIZER;CN="Ediciones UCT":MAILTO:ediciones@uct.cl
END:VEVENT
BEGIN:VEVENT
DTSTART;TZID=America/Santiago:20260319T080000
DTEND;TZID=America/Santiago:20260829T113000
DTSTAMP:20260422T185808
CREATED:20260320T132644Z
LAST-MODIFIED:20260320T134834Z
UID:10000140-1773907200-1788003000@extension.uct.cl
SUMMARY:Convocatoria Estudios de Género
DESCRIPTION:La colección tiene por objetivo fomentar la publicación y visibilización de obras académicas\, de investigación o creación que contribuyan al desarrollo de la perspectiva de género y los estudios feministas al interior de la comunidad universitaria. La colección está dedicada a la publicación de investigaciones\, ensayos\, textos literarios y trabajos académicos originales que aborden las problemáticas\, teorías y prácticas relacionadas con los estudios de género\, las sexualidades y el feminismo en sus diversas manifestaciones. \n  \nINFORMACIÓN y BASES DESCARGABLES en https://ediciones.uct.cl/convocatoria/convocatoria-coleccion-de-genero/
URL:https://extension.uct.cl/event/convocatoria-estudios-de-genero/
LOCATION:Librería Ediciones UCT\, Manuel Montt #56\, Temuco\, Chile
CATEGORIES:convocatoria
ATTACH;FMTTYPE=image/webp:https://extension.uct.cl/wp-content/uploads/banner-eventos-genero-scaled.webp
ORGANIZER;CN="Ediciones UCT":MAILTO:ediciones@uct.cl
END:VEVENT
BEGIN:VEVENT
DTSTART;TZID=America/Santiago:20260414T080000
DTEND;TZID=America/Santiago:20260514T170000
DTSTAMP:20260422T185808
CREATED:20260408T142842Z
LAST-MODIFIED:20260408T142842Z
UID:10000158-1776153600-1778778000@extension.uct.cl
SUMMARY:Exposición Selva Fría.
DESCRIPTION:Un archivo fílmico de ríos al sur de La Frontera desplazada.\nUn archivo fílmico de ríos al sur de La Frontera desplazada.Paulina Cisternas & Nicolás Venegas presentan un proceso-archivo de investigación y creación socioespacial que busca subvertir la mirada colonial y la fetichización estética de la naturaleza\, centrándose en la crisis de los ecosistemas fluviales del sur de Chile frente a procesos de modernización y fragmentación territorial. \nDisciplina: videoarte. \nMuestra gratuita. Martes 14 de abril al jueves 14 de mayo del año en curso. \nPuedes revisar más info visitando la página de la Sala de Exposiciones
URL:https://extension.uct.cl/event/expo-selva-fria/
LOCATION:Sala de Exposiciones Campus San Francisco\, Manuel Montt #56\, Temuco\, Chile
CATEGORIES:Exposición
ATTACH;FMTTYPE=image/webp:https://extension.uct.cl/wp-content/uploads/IMG-FICHA-2.webp
ORGANIZER;CN="Programa Sala de Exposiciones":MAILTO:salaexposiciones@uct.cl
END:VEVENT
BEGIN:VEVENT
DTSTART;TZID=America/Santiago:20260422T100000
DTEND;TZID=America/Santiago:20260423T180000
DTSTAMP:20260422T185808
CREATED:20260408T140839Z
LAST-MODIFIED:20260408T141435Z
UID:10000155-1776852000-1776967200@extension.uct.cl
SUMMARY:Venta de Bodega Ediciones UCT CSF
DESCRIPTION:¡En Ediciones UCT Celebramos el mes del libro!\nLos mejores descuentos y promociones para estudiantes\, docentes y público en general. \nMiércoles 22 y Jueves 23\, de 10:00 a 18:00 H\, Librería Ediciones UCT\, Campus San Francisco.
URL:https://extension.uct.cl/event/venta-de-bodega-ediciones-uct/
LOCATION:Librería Ediciones UCT\, Manuel Montt #56\, Temuco\, Chile
ATTACH;FMTTYPE=image/webp:https://extension.uct.cl/wp-content/uploads/bodega-csf.webp
ORGANIZER;CN="Ediciones UCT":MAILTO:ediciones@uct.cl
END:VEVENT
BEGIN:VEVENT
DTSTART;TZID=America/Santiago:20260423T183000
DTEND;TZID=America/Santiago:20260423T200000
DTSTAMP:20260422T185808
CREATED:20260408T145305Z
LAST-MODIFIED:20260408T150053Z
UID:10000160-1776969000-1776974400@extension.uct.cl
SUMMARY:Relanzamiento convocatoria de poesía Yosuke Kuramochi
DESCRIPTION:Conversatorio en torno a la figura y legado del académico Yosuke Kuramochi. Revisaremos la convocatoria que por tercer año consecutivo se abre a la comunidad para la publicación de poesía. \n\nJUEVES 23 de abril\, a las 18:30 H en Centro cultural Casa Varas.\n📍Antonio Varas 1181\, Temuco.
URL:https://extension.uct.cl/event/relanzamiento-convocatoria-de-poesia-yosuke-kuramochi/
LOCATION:Casa Varas\, Antonio Varas 1181\, Temuco\, 4780000\, Chile
CATEGORIES:Conversatorio,Lanzamiento
ATTACH;FMTTYPE=image/webp:https://extension.uct.cl/wp-content/uploads/yk.webp
ORGANIZER;CN="Ediciones UCT":MAILTO:ediciones@uct.cl
END:VEVENT
BEGIN:VEVENT
DTSTART;TZID=America/Santiago:20260427T180000
DTEND;TZID=America/Santiago:20260427T203000
DTSTAMP:20260422T185808
CREATED:20260408T150924Z
LAST-MODIFIED:20260408T150924Z
UID:10000162-1777312800-1777321800@extension.uct.cl
SUMMARY:Audición para la Orquesta Interfacultades UCT
DESCRIPTION:Se abren las audiciones para formar parte de la Orquesta Interfacultades UCT\, para estudiantes\, docentes y funcionaria/os de la institución. \n\n\nBuscamos instrumentistas comprometida/os y apasionada/os que deseen integrar un espacio de creación colectiva y excelencia artística. \n\n\n\nFormulario en este link: Postulaciones \n\n\n\nLunes 27 de abril\, 18:00 H\, Auditorio Academia de Artes Musicales\, ubicado en el Campus Monseñor Menchaca Lira.
URL:https://extension.uct.cl/event/audicion-para-la-orquesta-interfacultades-uct/
LOCATION:Auditorio Academia de Artes Musicales\, Avenida Alemania 0422\, Temuco\, Selecciona una provincia:\, Chile
CATEGORIES:Música
ATTACH;FMTTYPE=image/webp:https://extension.uct.cl/wp-content/uploads/orquesta-3.webp
ORGANIZER;CN="Academia de Artes Musicales":MAILTO:academiadeartesmusicales@uct.cl
END:VEVENT
BEGIN:VEVENT
DTSTART;TZID=America/Santiago:20260427T190000
DTEND;TZID=America/Santiago:20260427T200000
DTSTAMP:20260422T185808
CREATED:20260406T161731Z
LAST-MODIFIED:20260408T165547Z
UID:10000143-1777316400-1777320000@extension.uct.cl
SUMMARY:Cine: Todos somos justos
DESCRIPTION:Ciclo de cine + Conversatorio\nEn el marco del Portal Artístico Aula Magna\, se presenta un ciclo de cine misceláneo que tendrá lugar la última semana de cada mes en el auditorio H2 del Campus San Francisco. Esta iniciativa busca abrir un espacio de encuentro en torno al cine\, ofreciendo una selección diversa de películas que invitan a la reflexión y al diálogo. Cada función estará acompañada de un conversatorio posterior\, propiciando una experiencia compartida entre públicos y mediadores\, y fortaleciendo el rol del Portal Artístico como un espacio de formación\, apreciación y conversación en torno a las artes y la cultura contemporánea. \nTodos somos justos\n\nLuis es invitado a una cena en la casa donde trabaja como profesor particular. Lo que empieza como una noche tranquila se ve truncado cuando un grupo de enmascarados asaltan la casa. Sus diferencias pondrán en jaque lo que entendemos por justicia. \nDirector: Carlos Leiva \nDuración: 79 minutos \nClasificación: + 14 \nLunes 27 de abril a las 19:00H en el Auditorio H2\, Campus San Francisco.
URL:https://extension.uct.cl/event/cine-todos-somos-justos/
LOCATION:Auditorio H2\, Manuel Montt #56\, Temuco\, Chile
CATEGORIES:Cine
ATTACH;FMTTYPE=image/webp:https://extension.uct.cl/wp-content/uploads/TODOS-SOMOS-JUSTOS.webp
ORGANIZER;CN="Programa Portal Art%C3%ADstico Aula Magna":MAILTO:aulamagna@uct.cl
END:VEVENT
BEGIN:VEVENT
DTSTART;TZID=America/Santiago:20260427T190000
DTEND;TZID=America/Santiago:20260427T200000
DTSTAMP:20260422T185808
CREATED:20260406T162341Z
LAST-MODIFIED:20260408T165620Z
UID:10000163-1777316400-1777320000@extension.uct.cl
SUMMARY:Ciclo de Cine + Conversatorios
DESCRIPTION:Ciclo de cine + Conversatorios\nEn el marco del Portal Artístico Aula Magna\, se presenta un ciclo de cine misceláneo que tendrá lugar la última semana de cada mes en el auditorio H2 del Campus San Francisco. Esta iniciativa busca abrir un espacio de encuentro en torno al cine\, ofreciendo una selección diversa de películas que invitan a la reflexión y al diálogo. Cada función estará acompañada de un conversatorio posterior\, propiciando una experiencia compartida entre públicos y mediadores\, y fortaleciendo el rol del Portal Artístico como un espacio de formación\, apreciación y conversación en torno a las artes y la cultura contemporánea.
URL:https://extension.uct.cl/event/ciclo-de-cine/2026-04-27/
LOCATION:Auditorio H2\, Manuel Montt #56\, Temuco\, Chile
CATEGORIES:Cine
ORGANIZER;CN="Programa Portal Art%C3%ADstico Aula Magna":MAILTO:aulamagna@uct.cl
END:VEVENT
BEGIN:VEVENT
DTSTART;TZID=America/Santiago:20260429T190000
DTEND;TZID=America/Santiago:20260429T210000
DTSTAMP:20260422T185808
CREATED:20260331T135920Z
LAST-MODIFIED:20260408T155539Z
UID:10000141-1777489200-1777496400@extension.uct.cl
SUMMARY:Día de la Danza "El origen de la luz"
DESCRIPTION:En el marco del Día de la Danza 2026\, el elenco del Instituto Claret presenta “El origen de la luz”.\n\nEl elenco ha sido parte del Portal Artístico Estudiantil Aula Magna en diversas oportunidades\, consolidando una trayectoria marcada por la dedicación y el trabajo creativo. A partir de la solidez y sensibilidad de su propuesta escénica\, se ha querido abrir esta presentación a un público más amplio\, como una oportunidad para compartir una creación que destaca por su coherencia artística y su capacidad de emocionar\, interpretada por jóvenes bailarinas y bailarines de gran talento.\n\nEl Origen de la Luz es una obra de danza teatro que invita a sumergirse en un universo simbólico donde cuerpo\, memoria y cosmos se entrelazan. A través de una puesta en escena envolvente\, seguimos el viaje de una comunidad que ha olvidado su origen y cuya luz comienza a desvanecerse.\nGuiada por la aparición de la Niña de la Luz y su reflejo cósmico\, la historia despliega una travesía de reencuentro con la identidad\, el linaje y la esencia interior. En este recorrido\, cada gesto y cada danza se transforman en actos de memoria que despiertan a toda una comunidad.\nCon un lenguaje escénico que combina coreografía\, teatralidad\, proyecciones visuales y elementos lumínicos\, la obra propone una experiencia emotiva y sensorial que nos invita a reconectar con aquello que nos habita: nuestra propia luz.
URL:https://extension.uct.cl/event/dia-de-la-danza-el-origen-de-la-luz/
LOCATION:Aula Magna\, Manuel Montt 056\, Temuco\, Chile
CATEGORIES:Danza
ATTACH;FMTTYPE=image/webp:https://extension.uct.cl/wp-content/uploads/danza-2.webp
ORGANIZER;CN="Programa Portal Art%C3%ADstico Aula Magna":MAILTO:aulamagna@uct.cl
END:VEVENT
BEGIN:VEVENT
DTSTART;TZID=America/Santiago:20260430T183000
DTEND;TZID=America/Santiago:20260604T193000
DTSTAMP:20260422T185808
CREATED:20260310T144733Z
LAST-MODIFIED:20260421T150132Z
UID:10000134-1777573800-1780601400@extension.uct.cl
SUMMARY:Audición Banda Acontraluz
DESCRIPTION:
URL:https://extension.uct.cl/event/audicion-banda-acontraluz/
LOCATION:Sala de Ensayos Artísticos\, Manuel Montt 056\, Temuco\, Chile
ATTACH;FMTTYPE=image/webp:https://extension.uct.cl/wp-content/uploads/banner-audiciones-1.webp
END:VEVENT
BEGIN:VEVENT
DTSTART;TZID=America/Santiago:20260525T190000
DTEND;TZID=America/Santiago:20260525T200000
DTSTAMP:20260422T185808
CREATED:20260406T162341Z
LAST-MODIFIED:20260408T165620Z
UID:10000146-1779735600-1779739200@extension.uct.cl
SUMMARY:Ciclo de Cine + Conversatorios
DESCRIPTION:Ciclo de cine + Conversatorios\nEn el marco del Portal Artístico Aula Magna\, se presenta un ciclo de cine misceláneo que tendrá lugar la última semana de cada mes en el auditorio H2 del Campus San Francisco. Esta iniciativa busca abrir un espacio de encuentro en torno al cine\, ofreciendo una selección diversa de películas que invitan a la reflexión y al diálogo. Cada función estará acompañada de un conversatorio posterior\, propiciando una experiencia compartida entre públicos y mediadores\, y fortaleciendo el rol del Portal Artístico como un espacio de formación\, apreciación y conversación en torno a las artes y la cultura contemporánea.
URL:https://extension.uct.cl/event/ciclo-de-cine/2026-05-25/
LOCATION:Auditorio H2\, Manuel Montt #56\, Temuco\, Chile
CATEGORIES:Cine
ORGANIZER;CN="Programa Portal Art%C3%ADstico Aula Magna":MAILTO:aulamagna@uct.cl
END:VEVENT
BEGIN:VEVENT
DTSTART;TZID=America/Santiago:20260603T180000
DTEND;TZID=America/Santiago:20260603T190000
DTSTAMP:20260422T185808
CREATED:20260416T135232Z
LAST-MODIFIED:20260416T135232Z
UID:10000165-1780509600-1780513200@extension.uct.cl
SUMMARY:Inauguración Exposición FAAD
DESCRIPTION:FAAD\nArtistas: Estudiantes egresados\nFecha: Jueves 04 de junio\nHora: 18.00 horas  (por confirmar)\nLugar: Sala de Exposiciones San Francisco\, Manuel Montt #056 \nEntrada Liberada
URL:https://extension.uct.cl/event/inauguracion-exposicion-faad/
LOCATION:Sala de Exposiciones Campus San Francisco\, Manuel Montt #56\, Temuco\, Chile
CATEGORIES:Exposición
ATTACH;FMTTYPE=image/webp:https://extension.uct.cl/wp-content/uploads/faad.webp
ORGANIZER;CN="Programa Sala de Exposiciones":MAILTO:salaexposiciones@uct.cl
END:VEVENT
BEGIN:VEVENT
DTSTART;TZID=America/Santiago:20260630T190000
DTEND;TZID=America/Santiago:20260630T200000
DTSTAMP:20260422T185808
CREATED:20260406T162341Z
LAST-MODIFIED:20260408T165620Z
UID:10000149-1782846000-1782849600@extension.uct.cl
SUMMARY:Ciclo de Cine + Conversatorios
DESCRIPTION:Ciclo de cine + Conversatorios\nEn el marco del Portal Artístico Aula Magna\, se presenta un ciclo de cine misceláneo que tendrá lugar la última semana de cada mes en el auditorio H2 del Campus San Francisco. Esta iniciativa busca abrir un espacio de encuentro en torno al cine\, ofreciendo una selección diversa de películas que invitan a la reflexión y al diálogo. Cada función estará acompañada de un conversatorio posterior\, propiciando una experiencia compartida entre públicos y mediadores\, y fortaleciendo el rol del Portal Artístico como un espacio de formación\, apreciación y conversación en torno a las artes y la cultura contemporánea.
URL:https://extension.uct.cl/event/ciclo-de-cine/2026-06-30/
LOCATION:Auditorio H2\, Manuel Montt #56\, Temuco\, Chile
CATEGORIES:Cine
ORGANIZER;CN="Programa Portal Art%C3%ADstico Aula Magna":MAILTO:aulamagna@uct.cl
END:VEVENT
BEGIN:VEVENT
DTSTART;TZID=America/Santiago:20260831T190000
DTEND;TZID=America/Santiago:20260831T200000
DTSTAMP:20260422T185808
CREATED:20260406T162341Z
LAST-MODIFIED:20260408T165620Z
UID:10000150-1788202800-1788206400@extension.uct.cl
SUMMARY:Ciclo de Cine + Conversatorios
DESCRIPTION:Ciclo de cine + Conversatorios\nEn el marco del Portal Artístico Aula Magna\, se presenta un ciclo de cine misceláneo que tendrá lugar la última semana de cada mes en el auditorio H2 del Campus San Francisco. Esta iniciativa busca abrir un espacio de encuentro en torno al cine\, ofreciendo una selección diversa de películas que invitan a la reflexión y al diálogo. Cada función estará acompañada de un conversatorio posterior\, propiciando una experiencia compartida entre públicos y mediadores\, y fortaleciendo el rol del Portal Artístico como un espacio de formación\, apreciación y conversación en torno a las artes y la cultura contemporánea.
URL:https://extension.uct.cl/event/ciclo-de-cine/2026-08-31/
LOCATION:Auditorio H2\, Manuel Montt #56\, Temuco\, Chile
CATEGORIES:Cine
ORGANIZER;CN="Programa Portal Art%C3%ADstico Aula Magna":MAILTO:aulamagna@uct.cl
END:VEVENT
BEGIN:VEVENT
DTSTART;TZID=America/Santiago:20260928T190000
DTEND;TZID=America/Santiago:20260928T200000
DTSTAMP:20260422T185808
CREATED:20260406T162341Z
LAST-MODIFIED:20260408T165620Z
UID:10000151-1790622000-1790625600@extension.uct.cl
SUMMARY:Ciclo de Cine + Conversatorios
DESCRIPTION:Ciclo de cine + Conversatorios\nEn el marco del Portal Artístico Aula Magna\, se presenta un ciclo de cine misceláneo que tendrá lugar la última semana de cada mes en el auditorio H2 del Campus San Francisco. Esta iniciativa busca abrir un espacio de encuentro en torno al cine\, ofreciendo una selección diversa de películas que invitan a la reflexión y al diálogo. Cada función estará acompañada de un conversatorio posterior\, propiciando una experiencia compartida entre públicos y mediadores\, y fortaleciendo el rol del Portal Artístico como un espacio de formación\, apreciación y conversación en torno a las artes y la cultura contemporánea.
URL:https://extension.uct.cl/event/ciclo-de-cine/2026-09-28/
LOCATION:Auditorio H2\, Manuel Montt #56\, Temuco\, Chile
CATEGORIES:Cine
ORGANIZER;CN="Programa Portal Art%C3%ADstico Aula Magna":MAILTO:aulamagna@uct.cl
END:VEVENT
BEGIN:VEVENT
DTSTART;TZID=America/Santiago:20261026T080000
DTEND;TZID=America/Santiago:20261026T200000
DTSTAMP:20260422T185808
CREATED:20260406T162341Z
LAST-MODIFIED:20260408T165620Z
UID:10000152-1793001600-1793044800@extension.uct.cl
SUMMARY:Ciclo de Cine + Conversatorios
DESCRIPTION:Ciclo de cine + Conversatorios\nEn el marco del Portal Artístico Aula Magna\, se presenta un ciclo de cine misceláneo que tendrá lugar la última semana de cada mes en el auditorio H2 del Campus San Francisco. Esta iniciativa busca abrir un espacio de encuentro en torno al cine\, ofreciendo una selección diversa de películas que invitan a la reflexión y al diálogo. Cada función estará acompañada de un conversatorio posterior\, propiciando una experiencia compartida entre públicos y mediadores\, y fortaleciendo el rol del Portal Artístico como un espacio de formación\, apreciación y conversación en torno a las artes y la cultura contemporánea.
URL:https://extension.uct.cl/event/ciclo-de-cine/2026-10-26/
LOCATION:Auditorio H2\, Manuel Montt #56\, Temuco\, Chile
CATEGORIES:Cine
ORGANIZER;CN="Programa Portal Art%C3%ADstico Aula Magna":MAILTO:aulamagna@uct.cl
END:VEVENT
BEGIN:VEVENT
DTSTART;TZID=America/Santiago:20261123T080000
DTEND;TZID=America/Santiago:20261123T200000
DTSTAMP:20260422T185808
CREATED:20260406T162341Z
LAST-MODIFIED:20260408T165620Z
UID:10000153-1795420800-1795464000@extension.uct.cl
SUMMARY:Ciclo de Cine + Conversatorios
DESCRIPTION:Ciclo de cine + Conversatorios\nEn el marco del Portal Artístico Aula Magna\, se presenta un ciclo de cine misceláneo que tendrá lugar la última semana de cada mes en el auditorio H2 del Campus San Francisco. Esta iniciativa busca abrir un espacio de encuentro en torno al cine\, ofreciendo una selección diversa de películas que invitan a la reflexión y al diálogo. Cada función estará acompañada de un conversatorio posterior\, propiciando una experiencia compartida entre públicos y mediadores\, y fortaleciendo el rol del Portal Artístico como un espacio de formación\, apreciación y conversación en torno a las artes y la cultura contemporánea.
URL:https://extension.uct.cl/event/ciclo-de-cine/2026-11-23/
LOCATION:Auditorio H2\, Manuel Montt #56\, Temuco\, Chile
CATEGORIES:Cine
ORGANIZER;CN="Programa Portal Art%C3%ADstico Aula Magna":MAILTO:aulamagna@uct.cl
END:VEVENT
END:VCALENDAR