BEGIN:VCALENDAR
VERSION:2.0
PRODID:-//Universidad Católica de Temuco - ECPv6.15.17.1//NONSGML v1.0//EN
CALSCALE:GREGORIAN
METHOD:PUBLISH
X-WR-CALNAME:Universidad Católica de Temuco
X-ORIGINAL-URL:https://extension.uct.cl
X-WR-CALDESC:Eventos para Universidad Católica de Temuco
REFRESH-INTERVAL;VALUE=DURATION:PT1H
X-Robots-Tag:noindex
X-PUBLISHED-TTL:PT1H
BEGIN:VTIMEZONE
TZID:America/Santiago
BEGIN:STANDARD
TZOFFSETFROM:-0300
TZOFFSETTO:-0400
TZNAME:-04
DTSTART:20240407T030000
END:STANDARD
BEGIN:DAYLIGHT
TZOFFSETFROM:-0400
TZOFFSETTO:-0300
TZNAME:-03
DTSTART:20240908T040000
END:DAYLIGHT
BEGIN:STANDARD
TZOFFSETFROM:-0300
TZOFFSETTO:-0400
TZNAME:-04
DTSTART:20250406T030000
END:STANDARD
BEGIN:DAYLIGHT
TZOFFSETFROM:-0400
TZOFFSETTO:-0300
TZNAME:-03
DTSTART:20250907T040000
END:DAYLIGHT
BEGIN:STANDARD
TZOFFSETFROM:-0300
TZOFFSETTO:-0400
TZNAME:-04
DTSTART:20260405T030000
END:STANDARD
BEGIN:DAYLIGHT
TZOFFSETFROM:-0400
TZOFFSETTO:-0300
TZNAME:-03
DTSTART:20260906T040000
END:DAYLIGHT
END:VTIMEZONE
BEGIN:VEVENT
DTSTART;TZID=America/Santiago:20251202T090000
DTEND;TZID=America/Santiago:20251202T090000
DTSTAMP:20260423T052454
CREATED:20251113T180826Z
LAST-MODIFIED:20251114T003109Z
UID:10000112-1764666000-1764666000@extension.uct.cl
SUMMARY:Lanzamiento: Guía de Fauna Campus UCT
DESCRIPTION:Ediciones UCT tiene el agrado de comunicar el lanzamiento de la Guía de Fauna en los Campus de la Universidad Católica de Temuco. Colección de Biodiversidad de los Campus UCT. \nAutor: Arturo Hernández Sallés\nColaboran: Fabiola Barriga\, Marcela Mercado.\nAuspicia: Consejo de sustentabilidad.\n\nLa actividad será el día 2 de diciembre en las dependencias del  Edificio Ricardo Ferrando (Ex Edificio Biblioteca) del Campus Juan Pablo II a las 09:00 h. \n 
URL:https://extension.uct.cl/event/lanzamiento-guia-de-fauna-campus-uct/
LOCATION:Edificio Ricardo Ferrando (Ex Edificio Biblioteca)\, Rudecindo Ortega 02950\, Temuco\, Chile
CATEGORIES:Lanzamiento
ATTACH;FMTTYPE=image/webp:https://extension.uct.cl/wp-content/uploads/guia-de-la-fauna.webp
ORGANIZER;CN="Ediciones UCT":MAILTO:ediciones@uct.cl
END:VEVENT
BEGIN:VEVENT
DTSTART;TZID=America/Santiago:20251204T110000
DTEND;TZID=America/Santiago:20251204T170000
DTSTAMP:20260423T052454
CREATED:20251113T182116Z
LAST-MODIFIED:20251117T134347Z
UID:10000113-1764846000-1764867600@extension.uct.cl
SUMMARY:Lanzamiento: Libro Veloz se fue el sueño
DESCRIPTION:Lanzamiento de poemario de Sonia Huentemil. Veloz se fue el sueño y  apertura de la segunda convocatoria de poesía Yosuke Kuramochi
URL:https://extension.uct.cl/event/lanzamiento-libro-veloz-se-fue-el-sueno/
LOCATION:Auditorio H2\, Manuel Montt #56\, Temuco\, Chile
CATEGORIES:Lanzamiento
ATTACH;FMTTYPE=image/webp:https://extension.uct.cl/wp-content/uploads/portada-veloz-se-fue-el-sueno.webp
ORGANIZER;CN="Ediciones UCT":MAILTO:ediciones@uct.cl
END:VEVENT
END:VCALENDAR