BEGIN:VCALENDAR
VERSION:2.0
PRODID:-//Universidad Católica de Temuco - ECPv6.15.17.1//NONSGML v1.0//EN
CALSCALE:GREGORIAN
METHOD:PUBLISH
X-ORIGINAL-URL:https://extension.uct.cl
X-WR-CALDESC:Eventos para Universidad Católica de Temuco
REFRESH-INTERVAL;VALUE=DURATION:PT1H
X-Robots-Tag:noindex
X-PUBLISHED-TTL:PT1H
BEGIN:VTIMEZONE
TZID:America/Santiago
BEGIN:STANDARD
TZOFFSETFROM:-0300
TZOFFSETTO:-0400
TZNAME:-04
DTSTART:20220403T030000
END:STANDARD
BEGIN:DAYLIGHT
TZOFFSETFROM:-0400
TZOFFSETTO:-0300
TZNAME:-03
DTSTART:20220904T040000
END:DAYLIGHT
BEGIN:STANDARD
TZOFFSETFROM:-0300
TZOFFSETTO:-0400
TZNAME:-04
DTSTART:20230402T030000
END:STANDARD
BEGIN:DAYLIGHT
TZOFFSETFROM:-0400
TZOFFSETTO:-0300
TZNAME:-03
DTSTART:20230903T040000
END:DAYLIGHT
BEGIN:STANDARD
TZOFFSETFROM:-0300
TZOFFSETTO:-0400
TZNAME:-04
DTSTART:20240407T030000
END:STANDARD
BEGIN:DAYLIGHT
TZOFFSETFROM:-0400
TZOFFSETTO:-0300
TZNAME:-03
DTSTART:20240908T040000
END:DAYLIGHT
BEGIN:STANDARD
TZOFFSETFROM:-0300
TZOFFSETTO:-0400
TZNAME:-04
DTSTART:20250406T030000
END:STANDARD
BEGIN:DAYLIGHT
TZOFFSETFROM:-0400
TZOFFSETTO:-0300
TZNAME:-03
DTSTART:20250907T040000
END:DAYLIGHT
BEGIN:STANDARD
TZOFFSETFROM:-0300
TZOFFSETTO:-0400
TZNAME:-04
DTSTART:20260405T030000
END:STANDARD
BEGIN:DAYLIGHT
TZOFFSETFROM:-0400
TZOFFSETTO:-0300
TZNAME:-03
DTSTART:20260906T040000
END:DAYLIGHT
BEGIN:STANDARD
TZOFFSETFROM:-0300
TZOFFSETTO:-0400
TZNAME:-04
DTSTART:20270404T030000
END:STANDARD
BEGIN:DAYLIGHT
TZOFFSETFROM:-0400
TZOFFSETTO:-0300
TZNAME:-03
DTSTART:20270905T040000
END:DAYLIGHT
END:VTIMEZONE
BEGIN:VEVENT
DTSTART;TZID=America/Santiago:20260422T173000
DTEND;TZID=America/Santiago:20260422T183000
DTSTAMP:20260423T002343
CREATED:20260408T143648Z
LAST-MODIFIED:20260408T144444Z
UID:10000159-1776879000-1776882600@extension.uct.cl
SUMMARY:Lanzamiento proyecto Sureñas
DESCRIPTION:Nueva etapa\, nuevos desafíos.\n\n\nLa Dirección de Género\, el Departamento de Lenguas\, la Dirección de Sistema de Bibliotecas y Ediciones UCT\, presentan el nuevo plan de trabajo para 2026. \n\nVisita la página del Proyecto Sureñas para conocerlo más a fondo.
URL:https://extension.uct.cl/event/lanzamiento-proyecto-surenas/
LOCATION:Auditorio H2\, Manuel Montt #56\, Temuco\, Chile
CATEGORIES:Lanzamiento
ATTACH;FMTTYPE=image/png:https://extension.uct.cl/wp-content/uploads/surenas-1.png
ORGANIZER;CN="Ediciones UCT":MAILTO:ediciones@uct.cl
END:VEVENT
BEGIN:VEVENT
DTSTART;TZID=America/Santiago:20260319T170000
DTEND;TZID=America/Santiago:20260319T180000
DTSTAMP:20260423T002343
CREATED:20260305T141948Z
LAST-MODIFIED:20260306T123529Z
UID:10000132-1773939600-1773943200@extension.uct.cl
SUMMARY:Lanzamiento Colección de Género Ediciones UCT
DESCRIPTION:Ediciones UCT presenta su nueva iniciativa «Colección de Género» \nEl lanzamiento será en la Biblioteca Central\, en el Edificio Jaime Arellano\, se hará en el marco de la inauguración de la sala de lectura Ximena Navarro.
URL:https://extension.uct.cl/event/lanzamiento-coleccion-de-genero-ediciones-uct/
LOCATION:Biblioteca\, Manuel Montt #56\, Temuco\, Chile
CATEGORIES:Lanzamiento
ATTACH;FMTTYPE=image/webp:https://extension.uct.cl/wp-content/uploads/genero.webp
ORGANIZER;CN="Ediciones UCT":MAILTO:ediciones@uct.cl
END:VEVENT
BEGIN:VEVENT
DTSTART;TZID=America/Santiago:20251204T110000
DTEND;TZID=America/Santiago:20251204T170000
DTSTAMP:20260423T002343
CREATED:20251113T182116Z
LAST-MODIFIED:20251117T134347Z
UID:10000113-1764846000-1764867600@extension.uct.cl
SUMMARY:Lanzamiento: Libro Veloz se fue el sueño
DESCRIPTION:Lanzamiento de poemario de Sonia Huentemil. Veloz se fue el sueño y  apertura de la segunda convocatoria de poesía Yosuke Kuramochi
URL:https://extension.uct.cl/event/lanzamiento-libro-veloz-se-fue-el-sueno/
LOCATION:Auditorio H2\, Manuel Montt #56\, Temuco\, Chile
CATEGORIES:Lanzamiento
ATTACH;FMTTYPE=image/webp:https://extension.uct.cl/wp-content/uploads/portada-veloz-se-fue-el-sueno.webp
ORGANIZER;CN="Ediciones UCT":MAILTO:ediciones@uct.cl
END:VEVENT
BEGIN:VEVENT
DTSTART;TZID=America/Santiago:20251202T090000
DTEND;TZID=America/Santiago:20251202T090000
DTSTAMP:20260423T002343
CREATED:20251113T180826Z
LAST-MODIFIED:20251114T003109Z
UID:10000112-1764666000-1764666000@extension.uct.cl
SUMMARY:Lanzamiento: Guía de Fauna Campus UCT
DESCRIPTION:Ediciones UCT tiene el agrado de comunicar el lanzamiento de la Guía de Fauna en los Campus de la Universidad Católica de Temuco. Colección de Biodiversidad de los Campus UCT. \nAutor: Arturo Hernández Sallés\nColaboran: Fabiola Barriga\, Marcela Mercado.\nAuspicia: Consejo de sustentabilidad.\n\nLa actividad será el día 2 de diciembre en las dependencias del  Edificio Ricardo Ferrando (Ex Edificio Biblioteca) del Campus Juan Pablo II a las 09:00 h. \n 
URL:https://extension.uct.cl/event/lanzamiento-guia-de-fauna-campus-uct/
LOCATION:Edificio Ricardo Ferrando (Ex Edificio Biblioteca)\, Rudecindo Ortega 02950\, Temuco\, Chile
CATEGORIES:Lanzamiento
ATTACH;FMTTYPE=image/webp:https://extension.uct.cl/wp-content/uploads/guia-de-la-fauna.webp
ORGANIZER;CN="Ediciones UCT":MAILTO:ediciones@uct.cl
END:VEVENT
BEGIN:VEVENT
DTSTART;TZID=America/Santiago:20250828T160000
DTEND;TZID=America/Santiago:20250828T170000
DTSTAMP:20260423T002343
CREATED:20250814T143745Z
LAST-MODIFIED:20250820T155323Z
UID:10000075-1756396800-1756400400@extension.uct.cl
SUMMARY:Presentación Libro Soliloquios
DESCRIPTION:Desde Ediciones UCT\, y en el marco de «Sureñas: Mujeres\, Escritura y Territorio»\, generamos instancias para que escritoras del sur presenten y compartan su trabajo con la comunidad. Esta presentación es una oportunidad para conocer nuevas voces y fortalecer el vínculo entre escritura y territorio\, esencia de esta iniciativa. \nInvitamos a toda la comunidad a la presentación del libro «Soliloquios. Poesía desde la antesala de la vida» de la escritora Victoria Santander. \nEste jueves 28 de agosto a las 16:00 hrs en Sala Villablanca\, Edificio 5 Casa Docencia\, Campus San Francisco \n 
URL:https://extension.uct.cl/event/presentacion-libro-soliloquios/
LOCATION:Sala Villablanca\, Manuel Montt 056\, Temuco\, 4780000\, Chile
CATEGORIES:Lanzamiento
ATTACH;FMTTYPE=image/webp:https://extension.uct.cl/wp-content/uploads/surenas-soliloquios.webp
ORGANIZER;CN="Ediciones UCT":MAILTO:ediciones@uct.cl
END:VEVENT
BEGIN:VEVENT
DTSTART;TZID=America/Santiago:20250630T170000
DTEND;TZID=America/Santiago:20250630T183000
DTSTAMP:20260423T002343
CREATED:20250611T160421Z
LAST-MODIFIED:20250616T140500Z
UID:10000056-1751302800-1751308200@extension.uct.cl
SUMMARY:Libro: De la Fuerza de la Palabra a la Palabra Forzada. 
DESCRIPTION:En el marco del Wiñon Antü\, Gertrudis Payàs y José Manuel Zavala presentan: De la fuerza de la palabra a la palabra forzada. Parlamentos y otros encuentros mapuche-chilenos (1811-1882) \nUn testimonio excepcional de cómo fueron entendidos y sufridos los vaivenes de la política que se originaban en la capital\, y de los ingentes obstáculos que se oponían a las dirigencias mapuche para lograr unas condiciones mínimas de tranquilidad que aseguraran la supervivencia de su gente.
URL:https://extension.uct.cl/event/presentacion-de-la-fuerza-de-la-palabra-a-la-palabra-forzada/
LOCATION:Auditorio H2\, Manuel Montt #56\, Temuco\, Chile
CATEGORIES:Lanzamiento
ATTACH;FMTTYPE=image/jpeg:https://extension.uct.cl/wp-content/uploads/Lanzamiento-libro-de-la-fuerza-de-la-palabra.jpg
ORGANIZER;CN="Ediciones UCT":MAILTO:ediciones@uct.cl
END:VEVENT
BEGIN:VEVENT
DTSTART;TZID=America/Santiago:20250624T120000
DTEND;TZID=America/Santiago:20250624T140000
DTSTAMP:20260423T002343
CREATED:20250612T142846Z
LAST-MODIFIED:20250616T140450Z
UID:10000059-1750766400-1750773600@extension.uct.cl
SUMMARY:Libro: Comunidad y bien común
DESCRIPTION:
URL:https://extension.uct.cl/event/presentacion-del-libro-comunidad-y-bien-comun/
CATEGORIES:Lanzamiento
ATTACH;FMTTYPE=image/webp:https://extension.uct.cl/wp-content/uploads/comunidad-y-bien-comun.webp
ORGANIZER;CN="Ediciones UCT":MAILTO:ediciones@uct.cl
END:VEVENT
BEGIN:VEVENT
DTSTART;TZID=America/Santiago:20250617T110000
DTEND;TZID=America/Santiago:20250617T170000
DTSTAMP:20260423T002343
CREATED:20250612T142610Z
LAST-MODIFIED:20250616T140442Z
UID:10000058-1750158000-1750179600@extension.uct.cl
SUMMARY:Libro: El faro de la historia. Tributo al padre Gabriel Guarda.
DESCRIPTION:Ediciones UCT tiene el agrado de invitarles a la presentación del libro El faro de la historia\, tributo al padre Gabriel Guarda\, una obra que recoge su legado intelectual y humano.\nUn libro imprescindible que celebra la vida y obra de uno de los grandes intelectuales chilenos del siglo XX. Editado por el académico UCT Matthias Gloël\, esta obra colectiva reúne estudios desde la historia\, la arqueología y la geografía\, en diálogo con el legado de Guarda
URL:https://extension.uct.cl/event/lanzamiento-libro-el-faro-de-la-historia-tributo-al-padre-gabriel-guarda/
LOCATION:Auditorio H2\, Manuel Montt #56\, Temuco\, Chile
CATEGORIES:Lanzamiento
ATTACH;FMTTYPE=image/webp:https://extension.uct.cl/wp-content/uploads/Libro-el-faro-de-la-historia.webp
ORGANIZER;CN="Ediciones UCT":MAILTO:ediciones@uct.cl
END:VEVENT
BEGIN:VEVENT
DTSTART;TZID=America/Santiago:20250424T170000
DTEND;TZID=America/Santiago:20250424T180000
DTSTAMP:20260423T002343
CREATED:20250422T165244Z
LAST-MODIFIED:20250422T204419Z
UID:10000049-1745514000-1745517600@extension.uct.cl
SUMMARY:Lanzamiento del libro Polifonías
DESCRIPTION:  \nPolifonías. Contribuciones desde los estudios del lenguaje y las humanidade\nEste libro contiene diversos trabajos que reflexionan sobre y desde los campos disciplinarios que definen actualmente el quehacer intelectual del Departamento de Lenguas de la Universidad Católica de Temuco. La obra se organiza en cinco capítulos\, que en su conjunto explicitan las preocupaciones teóricas y metodológicas en torno a los campos de la lingüística\, la traductología\, los estudios literarios\, los estudios en comunicación y la enseñanza de idiomas\, dando cuenta del carácter polimorfo y multidisciplinario que define el trabajo reflexivo e investigativo de quienes habitan y transitan por los estudios del lenguaje y las humanidades al interior de nuestra universidad. \n 
URL:https://extension.uct.cl/event/lanzamiento-del-libro-polifonias/
LOCATION:Auditorio H2\, Manuel Montt #56\, Temuco\, Chile
CATEGORIES:Lanzamiento
ATTACH;FMTTYPE=image/webp:https://extension.uct.cl/wp-content/uploads/polifonias.webp
ORGANIZER;CN="Ediciones UCT":MAILTO:ediciones@uct.cl
END:VEVENT
BEGIN:VEVENT
DTSTART;TZID=America/Santiago:20241018T100000
DTEND;TZID=America/Santiago:20241018T130000
DTSTAMP:20260423T002343
CREATED:20240923T232202Z
LAST-MODIFIED:20240925T151806Z
UID:10000035-1729245600-1729256400@extension.uct.cl
SUMMARY:Lanzamiento libro: Ngenpin
DESCRIPTION:Este libro\, presentado por la Cátedra Fray Bartolomé de las Casas\, y coeditado con Ediciones UCTemuco es un homenaje al saber mapuche a través de las vivencias y enseñanzas de Don Florencio Manquilef Huichal\, un destacado líder espiritual y maestro. Se busca visibilizar y preservar la cultura mapuche mediante la escritura\, abordando la necesidad de compartir su riqueza y profundidad en un contexto contemporáneo. \nOrganiza: Instituto Ta Iñ Pewam
URL:https://extension.uct.cl/event/lanzamiento-libro-ngenpin/
LOCATION:Auditorio Oscar Cartagena\, Rudecindo Ortega 02950\, Temuco\, Chile
CATEGORIES:Lanzamiento
ATTACH;FMTTYPE=image/png:https://extension.uct.cl/wp-content/uploads/eve_ngenpin.png
ORGANIZER;CN="C%C3%A1tedra Fray Bartolom%C3%A9 de Las Casas":MAILTO:catedralascasas@uct.cl
END:VEVENT
BEGIN:VEVENT
DTSTART;TZID=America/Santiago:20241002T110000
DTEND;TZID=America/Santiago:20241002T110000
DTSTAMP:20260423T002343
CREATED:20240923T231243Z
LAST-MODIFIED:20240925T223853Z
UID:10000034-1727866800-1727866800@extension.uct.cl
SUMMARY:Lanzamiento libro: Homenaje a José Toribio Medina.
DESCRIPTION:El libro será comentado por el académico del Departamento de Lenguas\, Marcelo Garrido y el Historiador de la Universidad San Marcos de Lima\, Ricardo Pinto-Bazurco.\nEste libro es una reedición que celebra la vida y obra de Raúl Porras Barrenechea\, un destacado humanista peruano\, y su conexión con el legado de José Toribio Medina. La obra busca resaltar su influencia en la historiografía peruana y promover el intercambio cultural entre Perú y Chile a través de una colaboración académica.
URL:https://extension.uct.cl/event/lanzamiento-libro-homenaje-a-jose-toribio-medina/
LOCATION:Auditorio H2\, Manuel Montt #56\, Temuco\, Chile
CATEGORIES:Lanzamiento
ATTACH;FMTTYPE=image/png:https://extension.uct.cl/wp-content/uploads/eve_homenaje.png
END:VEVENT
BEGIN:VEVENT
DTSTART;TZID=America/Santiago:20240507T100000
DTEND;TZID=America/Santiago:20240507T110000
DTSTAMP:20260423T002343
CREATED:20240510T033240Z
LAST-MODIFIED:20250616T140431Z
UID:10000016-1715076000-1715079600@extension.uct.cl
SUMMARY:Presentación libro Sofía y los dos reinos
DESCRIPTION:
URL:https://extension.uct.cl/event/presentacion-libro-sofia-y-los-dos-reinos/
LOCATION:Auditorio H2\, Manuel Montt #56\, Temuco\, Chile
CATEGORIES:Lanzamiento
ATTACH;FMTTYPE=image/png:https://extension.uct.cl/wp-content/uploads/sofylosdosrei-min.png
ORGANIZER;CN="Ediciones UCT":MAILTO:ediciones@uct.cl
END:VEVENT
BEGIN:VEVENT
DTSTART;TZID=America/Santiago:20230927T080000
DTEND;TZID=America/Santiago:20230927T170000
DTSTAMP:20260423T002343
CREATED:20230830T215617Z
LAST-MODIFIED:20230901T011101Z
UID:10000003-1695801600-1695834000@extension.uct.cl
SUMMARY:Lanzamiento libro
DESCRIPTION:Sed posuere facilisis mauris non bibendum. Aliquam sagittis commodo massa\, ac sollicitudin tellus. Nullam rutrum faucibus ligula\, a dapibus justo venenatis eget. Cras vel nulla et neque scelerisque condimentum. Nam efficitur purus in lectus ultrices laoreet. Vestibulum posuere purus et aliquet mollis. Aliquam nisl ipsum\, accumsan sit amet dui et\, accumsan sodales quam. Quisque vitae maximus nulla\, id malesuada libero. Proin ut lacus id eros accumsan imperdiet aliquam ac mauris. Aenean interdum eget risus et interdum. In varius ipsum rutrum dapibus pharetra. Aenean placerat fringilla nibh\, ac pellentesque sapien aliquet eu. Curabitur a diam quis tellus pretium pulvinar. \nPraesent non convallis nibh\, ac placerat tellus. Mauris egestas\, augue nec suscipit aliquam\, metus nibh lacinia nibh\, eu volutpat diam diam semper eros. Vestibulum ante ipsum primis in faucibus orci luctus et ultrices posuere cubilia curae; Duis egestas auctor placerat. Quisque quis semper dolor. Phasellus est orci\, fringilla a suscipit sit amet\, varius ac neque. Mauris blandit ac mi quis venenatis. Maecenas mattis\, urna aliquet hendrerit efficitur\, velit mauris rhoncus quam\, tempus aliquam est tellus ut eros. Sed nunc diam\, dignissim sed vestibulum eu\, pretium in libero. Curabitur aliquet\, dolor quis dapibus pellentesque\, quam lorem tristique turpis\, at bibendum eros nisi at massa.
URL:https://extension.uct.cl/event/lanzamiento-libro/
CATEGORIES:Lanzamiento
ATTACH;FMTTYPE=image/png:https://extension.uct.cl/wp-content/uploads/libro-min.png
ORGANIZER;CN="Ediciones UCT":MAILTO:ediciones@uct.cl
END:VEVENT
END:VCALENDAR