BEGIN:VCALENDAR
VERSION:2.0
PRODID:-//Universidad Católica de Temuco - ECPv6.15.17.1//NONSGML v1.0//EN
CALSCALE:GREGORIAN
METHOD:PUBLISH
X-WR-CALNAME:Universidad Católica de Temuco
X-ORIGINAL-URL:https://extension.uct.cl
X-WR-CALDESC:Eventos para Universidad Católica de Temuco
REFRESH-INTERVAL;VALUE=DURATION:PT1H
X-Robots-Tag:noindex
X-PUBLISHED-TTL:PT1H
BEGIN:VTIMEZONE
TZID:America/Santiago
BEGIN:STANDARD
TZOFFSETFROM:-0300
TZOFFSETTO:-0400
TZNAME:-04
DTSTART:20250406T030000
END:STANDARD
BEGIN:DAYLIGHT
TZOFFSETFROM:-0400
TZOFFSETTO:-0300
TZNAME:-03
DTSTART:20250907T040000
END:DAYLIGHT
BEGIN:STANDARD
TZOFFSETFROM:-0300
TZOFFSETTO:-0400
TZNAME:-04
DTSTART:20260405T030000
END:STANDARD
BEGIN:DAYLIGHT
TZOFFSETFROM:-0400
TZOFFSETTO:-0300
TZNAME:-03
DTSTART:20260906T040000
END:DAYLIGHT
BEGIN:STANDARD
TZOFFSETFROM:-0300
TZOFFSETTO:-0400
TZNAME:-04
DTSTART:20270404T030000
END:STANDARD
BEGIN:DAYLIGHT
TZOFFSETFROM:-0400
TZOFFSETTO:-0300
TZNAME:-03
DTSTART:20270905T040000
END:DAYLIGHT
END:VTIMEZONE
BEGIN:VEVENT
DTSTART;TZID=America/Santiago:20260422T173000
DTEND;TZID=America/Santiago:20260422T183000
DTSTAMP:20260422T210320
CREATED:20260408T143648Z
LAST-MODIFIED:20260408T144444Z
UID:10000159-1776879000-1776882600@extension.uct.cl
SUMMARY:Lanzamiento proyecto Sureñas
DESCRIPTION:Nueva etapa\, nuevos desafíos.\n\n\nLa Dirección de Género\, el Departamento de Lenguas\, la Dirección de Sistema de Bibliotecas y Ediciones UCT\, presentan el nuevo plan de trabajo para 2026. \n\nVisita la página del Proyecto Sureñas para conocerlo más a fondo.
URL:https://extension.uct.cl/event/lanzamiento-proyecto-surenas/
LOCATION:Auditorio H2\, Manuel Montt #56\, Temuco\, Chile
CATEGORIES:Lanzamiento
ATTACH;FMTTYPE=image/png:https://extension.uct.cl/wp-content/uploads/surenas-1.png
ORGANIZER;CN="Ediciones UCT":MAILTO:ediciones@uct.cl
END:VEVENT
END:VCALENDAR