BEGIN:VCALENDAR
VERSION:2.0
PRODID:-//Universidad Católica de Temuco - ECPv6.15.17.1//NONSGML v1.0//EN
CALSCALE:GREGORIAN
METHOD:PUBLISH
X-WR-CALNAME:Universidad Católica de Temuco
X-ORIGINAL-URL:https://extension.uct.cl
X-WR-CALDESC:Eventos para Universidad Católica de Temuco
REFRESH-INTERVAL;VALUE=DURATION:PT1H
X-Robots-Tag:noindex
X-PUBLISHED-TTL:PT1H
BEGIN:VTIMEZONE
TZID:America/Santiago
BEGIN:STANDARD
TZOFFSETFROM:-0300
TZOFFSETTO:-0400
TZNAME:-04
DTSTART:20230402T030000
END:STANDARD
BEGIN:DAYLIGHT
TZOFFSETFROM:-0400
TZOFFSETTO:-0300
TZNAME:-03
DTSTART:20230903T040000
END:DAYLIGHT
BEGIN:STANDARD
TZOFFSETFROM:-0300
TZOFFSETTO:-0400
TZNAME:-04
DTSTART:20240407T030000
END:STANDARD
BEGIN:DAYLIGHT
TZOFFSETFROM:-0400
TZOFFSETTO:-0300
TZNAME:-03
DTSTART:20240908T040000
END:DAYLIGHT
BEGIN:STANDARD
TZOFFSETFROM:-0300
TZOFFSETTO:-0400
TZNAME:-04
DTSTART:20250406T030000
END:STANDARD
BEGIN:DAYLIGHT
TZOFFSETFROM:-0400
TZOFFSETTO:-0300
TZNAME:-03
DTSTART:20250907T040000
END:DAYLIGHT
BEGIN:STANDARD
TZOFFSETFROM:-0300
TZOFFSETTO:-0400
TZNAME:-04
DTSTART:20260405T030000
END:STANDARD
BEGIN:DAYLIGHT
TZOFFSETFROM:-0400
TZOFFSETTO:-0300
TZNAME:-03
DTSTART:20260906T040000
END:DAYLIGHT
BEGIN:STANDARD
TZOFFSETFROM:-0300
TZOFFSETTO:-0400
TZNAME:-04
DTSTART:20270404T030000
END:STANDARD
BEGIN:DAYLIGHT
TZOFFSETFROM:-0400
TZOFFSETTO:-0300
TZNAME:-03
DTSTART:20270905T040000
END:DAYLIGHT
END:VTIMEZONE
BEGIN:VEVENT
DTSTART;TZID=America/Santiago:20251218T170000
DTEND;TZID=America/Santiago:20260123T190000
DTSTAMP:20260423T034416
CREATED:20251112T152611Z
LAST-MODIFIED:20251112T152611Z
UID:10000111-1766077200-1769194800@extension.uct.cl
SUMMARY:Cierre proyecto Sureñas 2025
DESCRIPTION:Cierre de la segunda versión del Proyecto Sureñas\, mujeres\, escritura y territorio.\nJornada de cierre en el que se presentarán los resultados del laboratorio de escritura desarrollado este año. \nAuditorio H2  de 17:00 a 19:00 h. \nAbierta a público.
URL:https://extension.uct.cl/event/cierre-proyecto-surenas-2025/
LOCATION:Auditorio H2\, Manuel Montt #56\, Temuco\, Chile
CATEGORIES:Jornada
ATTACH;FMTTYPE=image/jpeg:https://extension.uct.cl/wp-content/uploads/surenas.jpeg
ORGANIZER;CN="Ediciones UCT":MAILTO:ediciones@uct.cl
END:VEVENT
BEGIN:VEVENT
DTSTART;TZID=America/Santiago:20250423T090000
DTEND;TZID=America/Santiago:20250424T173000
DTSTAMP:20260423T034416
CREATED:20250423T002740Z
LAST-MODIFIED:20250423T002828Z
UID:10000050-1745398800-1745515800@extension.uct.cl
SUMMARY:Día del libro en Ediciones UCT
DESCRIPTION:Este 23 y 24 de abril\, Librería Ediciones UCT 𝘀𝗲 𝘁𝗿𝗮𝗻𝘀𝗳𝗼𝗿𝗺𝗮𝗿𝗮́ 𝗲𝗻 𝗲𝗹 𝗿𝗶𝗻𝗰𝗼́𝗻 𝗳𝗮𝘃𝗼𝗿𝗶𝘁𝗼 𝗱𝗲 𝗾𝘂𝗶𝗲𝗻𝗲𝘀 𝗮𝗺𝗮𝗺𝗼𝘀 𝗹𝗼𝘀 𝗹𝗶𝗯𝗿𝗼𝘀. \n¿Por qué? Porque celebrar el Día Mundial del Libro y del Derecho de Autor no es solo un homenaje a las letras… ¡es una experiencia para compartir\, descubrir y aprovechar al máximo! \nPasa por nuestra librería y déjate sorprender con una jornada de descuentos para todo público y páginas inolvidables.\nLibrería Ediciones UCT en Campus San Francisco (Montt #056)\n \n 
URL:https://extension.uct.cl/event/dia-del-libro-en-ediciones-uct/
LOCATION:Librería Ediciones UCT\, Manuel Montt #56\, Temuco\, Chile
CATEGORIES:Jornada
ATTACH;FMTTYPE=image/gif:https://extension.uct.cl/wp-content/uploads/Post-ig-dia-del-libro-y-derechos-de-autor1.gif
ORGANIZER;CN="Ediciones UCT":MAILTO:ediciones@uct.cl
END:VEVENT
BEGIN:VEVENT
DTSTART;TZID=America/Santiago:20241109T140000
DTEND;TZID=America/Santiago:20241109T190000
DTSTAMP:20260423T034416
CREATED:20241125T125543Z
LAST-MODIFIED:20241125T130731Z
UID:10000042-1731160800-1731178800@extension.uct.cl
SUMMARY:Torneo de Ajedrez OPEN UCT
DESCRIPTION:Ajedrez en Temuco: la Universidad Católica de Temuco será el epicentro de la estrategia y el ingenio durante el evento deportivo del popular juego de mesa. Abierto a todas las edades\, habrán premios y regalos para las personas ganadoras. \nQuienes deseen participar del Torneo OPEN UCT\, la invitación está abierta para todos aquellos que quieran probar su destreza en el tablero y ser parte de la tradición. Para más detalles e inscripciones\, se puede acceder a la página oficial del torneo en www.federacionchilenadeajedrez.cl \nEl evento cuenta con un esquema de inscripción accesible\, con un valor de $1.000 para los\nestudiantes de la UCT y $6.000 para el público general.
URL:https://extension.uct.cl/event/8278/
LOCATION:Biblioteca\, Manuel Montt #56\, Temuco\, Chile
CATEGORIES:Jornada
ATTACH;FMTTYPE=image/webp:https://extension.uct.cl/wp-content/uploads/torneo-de-ajedre.webp
END:VEVENT
BEGIN:VEVENT
DTSTART;TZID=America/Santiago:20240912T110000
DTEND;TZID=America/Santiago:20240912T120000
DTSTAMP:20260423T034416
CREATED:20240905T155345Z
LAST-MODIFIED:20240905T155504Z
UID:10000029-1726138800-1726142400@extension.uct.cl
SUMMARY:Jornada de cierre Proyecto Sureñas
DESCRIPTION:En esta ocasión se presentarán los resultados del primer Mapeo de Autoras de la Región de La Araucanía. \n 
URL:https://extension.uct.cl/event/jornada-de-cierre-proyecto-surenas/
LOCATION:Auditorio H2\, Manuel Montt #56\, Temuco\, Chile
CATEGORIES:Jornada
ATTACH;FMTTYPE=image/png:https://extension.uct.cl/wp-content/uploads/cierresurenas.png
ORGANIZER;CN="Ediciones UCT":MAILTO:ediciones@uct.cl
END:VEVENT
END:VCALENDAR