BEGIN:VCALENDAR
VERSION:2.0
PRODID:-//Universidad Católica de Temuco - ECPv6.15.17.1//NONSGML v1.0//EN
CALSCALE:GREGORIAN
METHOD:PUBLISH
X-WR-CALNAME:Universidad Católica de Temuco
X-ORIGINAL-URL:https://extension.uct.cl
X-WR-CALDESC:Eventos para Universidad Católica de Temuco
REFRESH-INTERVAL;VALUE=DURATION:PT1H
X-Robots-Tag:noindex
X-PUBLISHED-TTL:PT1H
BEGIN:VTIMEZONE
TZID:America/Santiago
BEGIN:STANDARD
TZOFFSETFROM:-0300
TZOFFSETTO:-0400
TZNAME:-04
DTSTART:20240407T030000
END:STANDARD
BEGIN:DAYLIGHT
TZOFFSETFROM:-0400
TZOFFSETTO:-0300
TZNAME:-03
DTSTART:20240908T040000
END:DAYLIGHT
BEGIN:STANDARD
TZOFFSETFROM:-0300
TZOFFSETTO:-0400
TZNAME:-04
DTSTART:20250406T030000
END:STANDARD
BEGIN:DAYLIGHT
TZOFFSETFROM:-0400
TZOFFSETTO:-0300
TZNAME:-03
DTSTART:20250907T040000
END:DAYLIGHT
BEGIN:STANDARD
TZOFFSETFROM:-0300
TZOFFSETTO:-0400
TZNAME:-04
DTSTART:20260405T030000
END:STANDARD
BEGIN:DAYLIGHT
TZOFFSETFROM:-0400
TZOFFSETTO:-0300
TZNAME:-03
DTSTART:20260906T040000
END:DAYLIGHT
END:VTIMEZONE
BEGIN:VEVENT
DTSTART;TZID=America/Santiago:20251014T190000
DTEND;TZID=America/Santiago:20251014T200000
DTSTAMP:20260423T070731
CREATED:20251003T123350Z
LAST-MODIFIED:20251003T125754Z
UID:10000099-1760468400-1760472000@extension.uct.cl
SUMMARY:Inauguración de Exposición
DESCRIPTION:La tierra se tiñe de azul en la orilla\nExposición ganadora Convocatoria de Artes Visuales 2025\nInauguración de Exposición «La tierra se tiñe de azul en la orilla» de Ayline Figueroa está programada para el martes 14 de octubre a las 19:00 hrs en la Sala de Exposiciones San Francisco. Entrada liberada. \nLa exposición aborda la memoria como un tejido frágil surgido del desplazamiento entre tierras\, donde convergen el deseo personal y las imposiciones externas. A través del bordado y tejido\, Figueroa explora el desarraigo como un «no lugar»\, transformando microhistorias marginadas en reflexiones sobre orígenes perdidos e identidades persistentes. \nEl gesto manual se manifiesta mediante puntadas y nudos que representan los fragmentos dispersos de la memoria. El azul emerge como símbolo central\, resonando en la cosmovisión mapuche mientras encarna la nostalgia\, simbolizando todo aquello que permanece en la orilla del camino: historias no contadas y pérdidas silenciosas. \nInauguración de Exposición: martes 14 de octubre\nHasta: miércoles 12 de noviembre.\nTítulo: La tierra se tiñe de azul en la orilla\nArtista: Ayline Figueroa\nFecha: martes 14 de octubre\nHora: 19.00 horas\nLugar: Sala de Exposiciones Campus San Francisco\, Manuel Montt #056 \n 
URL:https://extension.uct.cl/event/inauguracion-exposicion/
LOCATION:Sala de Exposiciones Campus San Francisco\, Manuel Montt #56\, Temuco\, Chile
CATEGORIES:Inauguración
ATTACH;FMTTYPE=image/png:https://extension.uct.cl/wp-content/uploads/Expo-la-tierra-01.png
ORGANIZER;CN="Programa Sala de Exposiciones":MAILTO:salaexposiciones@uct.cl
END:VEVENT
END:VCALENDAR