BEGIN:VCALENDAR
VERSION:2.0
PRODID:-//Universidad Católica de Temuco - ECPv6.15.17.1//NONSGML v1.0//EN
CALSCALE:GREGORIAN
METHOD:PUBLISH
X-WR-CALNAME:Universidad Católica de Temuco
X-ORIGINAL-URL:https://extension.uct.cl
X-WR-CALDESC:Eventos para Universidad Católica de Temuco
REFRESH-INTERVAL;VALUE=DURATION:PT1H
X-Robots-Tag:noindex
X-PUBLISHED-TTL:PT1H
BEGIN:VTIMEZONE
TZID:America/Santiago
BEGIN:STANDARD
TZOFFSETFROM:-0300
TZOFFSETTO:-0400
TZNAME:-04
DTSTART:20240407T030000
END:STANDARD
BEGIN:DAYLIGHT
TZOFFSETFROM:-0400
TZOFFSETTO:-0300
TZNAME:-03
DTSTART:20240908T040000
END:DAYLIGHT
BEGIN:STANDARD
TZOFFSETFROM:-0300
TZOFFSETTO:-0400
TZNAME:-04
DTSTART:20250406T030000
END:STANDARD
BEGIN:DAYLIGHT
TZOFFSETFROM:-0400
TZOFFSETTO:-0300
TZNAME:-03
DTSTART:20250907T040000
END:DAYLIGHT
BEGIN:STANDARD
TZOFFSETFROM:-0300
TZOFFSETTO:-0400
TZNAME:-04
DTSTART:20260405T030000
END:STANDARD
BEGIN:DAYLIGHT
TZOFFSETFROM:-0400
TZOFFSETTO:-0300
TZNAME:-03
DTSTART:20260906T040000
END:DAYLIGHT
END:VTIMEZONE
BEGIN:VEVENT
DTSTART;TZID=America/Santiago:20250828T080000
DTEND;TZID=America/Santiago:20250831T170000
DTSTAMP:20260423T020210
CREATED:20250827T152248Z
LAST-MODIFIED:20250827T152434Z
UID:10000077-1756368000-1756659600@extension.uct.cl
SUMMARY:Fiesta de Violines
DESCRIPTION:Masterclasses públicas del violinista Dorian Lamotte\nCorporación Coros Polifónicos Santa Cecilia de Temuco\nJueves 28\, 17:00 a 12:00 \nViernes 29\, 16:00 a 20:00 \nSábado 30\, 14:00 a 19:00 \nTeatro Municipal de Temuco\nJueves 28\, 14:00 a 16:00 \nColegio Bautista de Temuco\nLiceo Pablo Neruda de Temuco (invitado) \nViernes 29\, 10:00 a 14:00 \nUniversidad Católica de Temuco\nAcademia de Artes Musicales \nSábado 30\, 10:00 a 12:00. \n  \nSala de Conciertos Lucía Hernández Rivas\n(Diego Portales 787) \nConcierto Final \nDomingo 31 a las 16:00 hrs. \n  \nMás información: Academia de Artes Musicales\, Teléfono: 452205226 Correo: academiadeartesmusicales@uct.cl
URL:https://extension.uct.cl/event/fiesta-de-violines/
LOCATION:Auditorio Academia de Artes Musicales\, Avenida Alemania 0422\, Temuco\, Selecciona una provincia:\, Chile
CATEGORIES:Concierto,Festival
ATTACH;FMTTYPE=image/webp:https://extension.uct.cl/wp-content/uploads/fiestaviolines.webp
ORGANIZER;CN="Academia de Artes Musicales":MAILTO:academiadeartesmusicales@uct.cl
END:VEVENT
BEGIN:VEVENT
DTSTART;VALUE=DATE:20250808
DTEND;VALUE=DATE:20250810
DTSTAMP:20260423T020210
CREATED:20250804T155026Z
LAST-MODIFIED:20250806T165541Z
UID:10000069-1754611200-1754783999@extension.uct.cl
SUMMARY:FESTIVAL UDARA
DESCRIPTION:El Festival Udara\, iniciativa musical y cultural con enfoque feminista y territorial\, celebra sus 10 años con una edición especial en Temuco que busca visibilizar y fortalecer el trabajo de mujeres y disidencias en la escena del rock. Nacido como una plataforma de encuentro\, circulación y formación\, el festival propone una programación que articula música en vivo\, talleres y espacios de conversación en torno al arte y los territorios. \nEn esta versión local\, la programación se desarrollará en el Aula Magna y la Academia de Artes Musicales de la Universidad Católica de Temuc0\, reafirmando el compromiso de nuestra casa de estudios con la descentralización cultural y la creación colectiva. \n\nMaster Class: «Calibra tu voz y Grita» a cargo de la cantante y entrenadora vocal Majo Calderón.\nFecha: Viernes 08 de agosto \nHora: 11:00 a 13:00 \nPor: Major Calderón (Litraea) \nLugar: Academia de Artes Musicales \nCupos limitados\, inscripción vía Instagram \n  \nFestival UDARA Mujeres Araucanía y Rock\nFecha: Sábado 09 de agosto \nLugar: Aula Magna UCT \n12:00 a 13:00 Conversatorio: «El legado de las mujeres en el Rock: Trayectoria y territorio» \nInvitadas: Denisse (Aguaturbia) y Paola Linconao (Inche) \n  \n18:00 Apertura de puertas \n18:30 Animales exóticos desamparados \n19:15 Inche \n20:00 Aguaturbia \n  \n  \n 
URL:https://extension.uct.cl/event/festival-udara/
LOCATION:Aula Magna\, Manuel Montt 056\, Temuco\, Chile
CATEGORIES:Festival
ATTACH;FMTTYPE=image/webp:https://extension.uct.cl/wp-content/uploads/udara1.webp
ORGANIZER;CN="Programa Portal Art%C3%ADstico Aula Magna":MAILTO:aulamagna@uct.cl
END:VEVENT
END:VCALENDAR