BEGIN:VCALENDAR
VERSION:2.0
PRODID:-//Universidad Católica de Temuco - ECPv6.15.17.1//NONSGML v1.0//EN
CALSCALE:GREGORIAN
METHOD:PUBLISH
X-WR-CALNAME:Universidad Católica de Temuco
X-ORIGINAL-URL:https://extension.uct.cl
X-WR-CALDESC:Eventos para Universidad Católica de Temuco
REFRESH-INTERVAL;VALUE=DURATION:PT1H
X-Robots-Tag:noindex
X-PUBLISHED-TTL:PT1H
BEGIN:VTIMEZONE
TZID:America/Santiago
BEGIN:STANDARD
TZOFFSETFROM:-0300
TZOFFSETTO:-0400
TZNAME:-04
DTSTART:20240407T030000
END:STANDARD
BEGIN:DAYLIGHT
TZOFFSETFROM:-0400
TZOFFSETTO:-0300
TZNAME:-03
DTSTART:20240908T040000
END:DAYLIGHT
BEGIN:STANDARD
TZOFFSETFROM:-0300
TZOFFSETTO:-0400
TZNAME:-04
DTSTART:20250406T030000
END:STANDARD
BEGIN:DAYLIGHT
TZOFFSETFROM:-0400
TZOFFSETTO:-0300
TZNAME:-03
DTSTART:20250907T040000
END:DAYLIGHT
BEGIN:STANDARD
TZOFFSETFROM:-0300
TZOFFSETTO:-0400
TZNAME:-04
DTSTART:20260405T030000
END:STANDARD
BEGIN:DAYLIGHT
TZOFFSETFROM:-0400
TZOFFSETTO:-0300
TZNAME:-03
DTSTART:20260906T040000
END:DAYLIGHT
END:VTIMEZONE
BEGIN:VEVENT
DTSTART;TZID=America/Santiago:20250905T100000
DTEND;TZID=America/Santiago:20250907T200000
DTSTAMP:20260423T191846
CREATED:20250901T140038Z
LAST-MODIFIED:20250901T141114Z
UID:10000079-1757066400-1757275200@extension.uct.cl
SUMMARY:Fiesta del Libro
DESCRIPTION:Ediciones UCT invita a la 3ª Edición de la Fiesta del Libro de la Araucanía\nLa actividad traerá a la capital regional las últimas tendencias en literatura nacional junto a grandes exponentes: Pablo Simonetti\, Daniel Villalobos\, Francisco Ortega\, Solange Lackington\, Margarita Canio\, Dënver (DJ Set)\, Antonella Estévez\, María José Rodríguez\, entre otros. \nEdiciones UCT llevará una selección de su extenso catálogo. \nRevisa el programa completo en: el Instagram de culturas_araucanía \nEaston Oulet Mall (salida norte) \n5\, 6 y 7 de septiembre
URL:https://extension.uct.cl/event/fiesta-del-libro/
LOCATION:Easton Oulet Mall\, Rudecindo Ortega 01780\, Temuco\, Chile
CATEGORIES:Exposición,Feria de libros
ATTACH;FMTTYPE=image/webp:https://extension.uct.cl/wp-content/uploads/easton.webp
ORGANIZER;CN="Ediciones UCT":MAILTO:ediciones@uct.cl
END:VEVENT
BEGIN:VEVENT
DTSTART;TZID=America/Santiago:20250912T080000
DTEND;TZID=America/Santiago:20250913T170000
DTSTAMP:20260423T191846
CREATED:20250908T154714Z
LAST-MODIFIED:20250908T154714Z
UID:10000082-1757664000-1757782800@extension.uct.cl
SUMMARY:VIII Feria de Homenaje al Libro Indígena e Intercultural
DESCRIPTION:El evento se realizará los días 12 y 13 de septiembre en el Centro Cultural Gabriela Mistral.\nLa feria es organizada por el Plan de Lectura de la Seremi de las Culturas\, las Artes y el Patrimonio de la Región Metropolitana\, en colaboración con la Sección Regional Metropolitana de la Subdirección Nacional de Pueblos Originarios del Servicio Nacional del Patrimonio Cultural\, y cuenta con el apoyo de la Universidad Católica Silva Henríquez
URL:https://extension.uct.cl/event/viii-feria-de-homenaje-al-libro-indigena-e-intercultural/
CATEGORIES:Feria de libros
ATTACH;FMTTYPE=image/webp:https://extension.uct.cl/wp-content/uploads/indigena-libros.webp
ORGANIZER;CN="Ediciones UCT":MAILTO:ediciones@uct.cl
END:VEVENT
BEGIN:VEVENT
DTSTART;TZID=America/Santiago:20251003T080000
DTEND;TZID=America/Santiago:20251005T170000
DTSTAMP:20260423T191846
CREATED:20250915T151201Z
LAST-MODIFIED:20250915T151201Z
UID:10000094-1759478400-1759683600@extension.uct.cl
SUMMARY:14ª Primavera del Libro
DESCRIPTION:Ediciones UCT en la  14ª Primavera del Libro vuelve al Parque Estadio Nacional\nPodrás encontrarte con más de 200 editoriales independientes y universitarias\, nacionales e internacionales\, además de un espacio dedicado a las infancias\, presentaciones y lanzamientos de libros\, música\, teatro y mucho más. \n3 al 5 de octubre \n📍Parque Estadio Nacional (a pasos de la salida del metro Estadio Nacional – línea 6)\n· Entrada liberada \n· Organiza: @editorialesdechile\n· Apoyan: @culturascl @indchile @comyletrasudp \n*Proyecto apoyado por el Fondo del Libro y la Lectura Convocatoria 2025 del Ministerio de las Culturas\, las Artes y el Patrimonio
URL:https://extension.uct.cl/event/14a-primavera-del-libro/
LOCATION:Parque Estadio Nacional\, Av. Grecia 2001\, Santiago\, 7780464\, Chile
CATEGORIES:Feria de libros
ATTACH;FMTTYPE=image/webp:https://extension.uct.cl/wp-content/uploads/feirastgo.webp
ORGANIZER;CN="Ediciones UCT":MAILTO:ediciones@uct.cl
END:VEVENT
END:VCALENDAR