BEGIN:VCALENDAR
VERSION:2.0
PRODID:-//Universidad Católica de Temuco - ECPv6.15.17.1//NONSGML v1.0//EN
CALSCALE:GREGORIAN
METHOD:PUBLISH
X-ORIGINAL-URL:https://extension.uct.cl
X-WR-CALDESC:Eventos para Universidad Católica de Temuco
REFRESH-INTERVAL;VALUE=DURATION:PT1H
X-Robots-Tag:noindex
X-PUBLISHED-TTL:PT1H
BEGIN:VTIMEZONE
TZID:America/Santiago
BEGIN:STANDARD
TZOFFSETFROM:-0300
TZOFFSETTO:-0400
TZNAME:-04
DTSTART:20230402T030000
END:STANDARD
BEGIN:DAYLIGHT
TZOFFSETFROM:-0400
TZOFFSETTO:-0300
TZNAME:-03
DTSTART:20230903T040000
END:DAYLIGHT
BEGIN:STANDARD
TZOFFSETFROM:-0300
TZOFFSETTO:-0400
TZNAME:-04
DTSTART:20240407T030000
END:STANDARD
BEGIN:DAYLIGHT
TZOFFSETFROM:-0400
TZOFFSETTO:-0300
TZNAME:-03
DTSTART:20240908T040000
END:DAYLIGHT
BEGIN:STANDARD
TZOFFSETFROM:-0300
TZOFFSETTO:-0400
TZNAME:-04
DTSTART:20250406T030000
END:STANDARD
BEGIN:DAYLIGHT
TZOFFSETFROM:-0400
TZOFFSETTO:-0300
TZNAME:-03
DTSTART:20250907T040000
END:DAYLIGHT
BEGIN:STANDARD
TZOFFSETFROM:-0300
TZOFFSETTO:-0400
TZNAME:-04
DTSTART:20260405T030000
END:STANDARD
BEGIN:DAYLIGHT
TZOFFSETFROM:-0400
TZOFFSETTO:-0300
TZNAME:-03
DTSTART:20260906T040000
END:DAYLIGHT
END:VTIMEZONE
BEGIN:VEVENT
DTSTART;TZID=America/Santiago:20251204T200000
DTEND;TZID=America/Santiago:20251204T213000
DTSTAMP:20260423T020911
CREATED:20251027T160345Z
LAST-MODIFIED:20251027T160345Z
UID:10000107-1764878400-1764883800@extension.uct.cl
SUMMARY:Gala artística Instituto Claret
DESCRIPTION:Portal Artístico Estudiantil Aula Magna presenta:\nInstituto Claret\nTítulo: “»El origen de la Luz»”\nTipo: Danza\nFecha: 4 de diciembre\nHorario: 20:00 h\nAula Magna
URL:https://extension.uct.cl/event/gala-artistica-instituto-claret/
LOCATION:Aula Magna\, Manuel Montt 056\, Temuco\, Chile
CATEGORIES:Danza
ATTACH;FMTTYPE=image/webp:https://extension.uct.cl/wp-content/uploads/instituto-claret.webp
ORGANIZER;CN="Programa Portal Art%C3%ADstico Aula Magna":MAILTO:aulamagna@uct.cl
END:VEVENT
BEGIN:VEVENT
DTSTART;TZID=America/Santiago:20251125T160000
DTEND;TZID=America/Santiago:20251125T170000
DTSTAMP:20260423T020911
CREATED:20251110T141359Z
LAST-MODIFIED:20251110T142820Z
UID:10000110-1764086400-1764090000@extension.uct.cl
SUMMARY:Gala Liceo Comenius
DESCRIPTION:“The Classics Project 80’s”\nLiceo Jan Comenius \nTítulo: “The Classics Project 80’s” \nTipo: Danza-Música-Canto \nFecha: 25 de noviembre \nHorario: 16.00 horas
URL:https://extension.uct.cl/event/gala-liceo-comenius/
LOCATION:Aula Magna\, Manuel Montt 056\, Temuco\, Chile
CATEGORIES:Concierto,Danza
ATTACH;FMTTYPE=image/webp:https://extension.uct.cl/wp-content/uploads/e-banner-comenius.webp-.webp
ORGANIZER;CN="Programa Portal Art%C3%ADstico Aula Magna":MAILTO:aulamagna@uct.cl
END:VEVENT
BEGIN:VEVENT
DTSTART;TZID=America/Santiago:20251114T193000
DTEND;TZID=America/Santiago:20251114T213000
DTSTAMP:20260423T020911
CREATED:20251027T154742Z
LAST-MODIFIED:20251027T154936Z
UID:10000104-1763148600-1763155800@extension.uct.cl
SUMMARY:Gala Danzas Urbanas 2025
DESCRIPTION:Tras un año de arduo trabajo\, dirigidos por Jordan Saavedra\, nuestro Elenco de Danzas Urbanas está preparado para compartir con el público su presentación este viernes 14 de noviembre en el AULA MAGNA\, Campus San Francisco ubicado en Manuel Montt 056. \n19:30 horas – Entrada Liberada
URL:https://extension.uct.cl/event/gala-danzas-urbanas-2025/
LOCATION:Aula Magna\, Manuel Montt 056\, Temuco\, Chile
CATEGORIES:Danza
ATTACH;FMTTYPE=image/webp:https://extension.uct.cl/wp-content/uploads/GALA-DANZAS.webp
ORGANIZER;CN="Programa Portal Art%C3%ADstico Aula Magna":MAILTO:aulamagna@uct.cl
END:VEVENT
BEGIN:VEVENT
DTSTART;TZID=America/Santiago:20251106T200000
DTEND;TZID=America/Santiago:20251106T220000
DTSTAMP:20260423T020911
CREATED:20251027T155952Z
LAST-MODIFIED:20251027T155952Z
UID:10000106-1762459200-1762466400@extension.uct.cl
SUMMARY:Gala Colegio Scole Creare
DESCRIPTION:Portal Artístico Estudiantil Aula Magna presenta:\nColegio Scole Creare\nTítulo: “La Memoria Baila en Nosotras” 25 años de pasos que no se olvidan \nTipo: Danza \nFecha: 6 de noviembre \nHorario: 20.00 horas \nAula Magna
URL:https://extension.uct.cl/event/gala-colegio-scole-creare/
LOCATION:Aula Magna\, Manuel Montt 056\, Temuco\, Chile
CATEGORIES:Danza
ATTACH;FMTTYPE=image/webp:https://extension.uct.cl/wp-content/uploads/scole-creare.webp
ORGANIZER;CN="Programa Portal Art%C3%ADstico Aula Magna":MAILTO:aulamagna@uct.cl
END:VEVENT
BEGIN:VEVENT
DTSTART;TZID=America/Santiago:20251104T183000
DTEND;TZID=America/Santiago:20251104T203000
DTSTAMP:20260423T020911
CREATED:20251027T155647Z
LAST-MODIFIED:20251027T155647Z
UID:10000105-1762281000-1762288200@extension.uct.cl
SUMMARY:Gala Liceo Padre Óscar Moser
DESCRIPTION:Portal Artístico Estudiantil Aula Magna presenta:\nLiceo Bicentenario de Excelencia Padre Oscar Moser \nTítulo: Ruge la Tierra: Un grito artístico por el futuro \n Tipo: Artes integradas (teatro\, danza\, música)  \nFecha: 4 de noviembre Horario: 18.30 horas.   \nAula Magna
URL:https://extension.uct.cl/event/gala-liceo-padre-oscar-moser/
LOCATION:Aula Magna\, Manuel Montt 056\, Temuco\, Chile
CATEGORIES:Concierto,Danza,Teatro
ATTACH;FMTTYPE=image/webp:https://extension.uct.cl/wp-content/uploads/oscar-moser.webp
ORGANIZER;CN="Programa Portal Art%C3%ADstico Aula Magna":MAILTO:aulamagna@uct.cl
END:VEVENT
BEGIN:VEVENT
DTSTART;TZID=America/Santiago:20251021T190000
DTEND;TZID=America/Santiago:20251021T210000
DTSTAMP:20260423T020911
CREATED:20251003T131715Z
LAST-MODIFIED:20251003T144033Z
UID:10000100-1761073200-1761080400@extension.uct.cl
SUMMARY:Concierto Conjunto Folclórico Aliwen de Temuco
DESCRIPTION:Ciclo de conciertos «Paisajes sonoros de Temuco: una semana de música temuquense»\nEl Conjunto Folclórico Aliwen de Temuco se presenta el marco de la programación del Portal Artístico Aula Magna. Artistas invitados: BAFOAM – Ballet Folclórico Adulto Mayor de Temuco. \n«En honor a quienes este año cumplen 70 años difundiendo y enalteciendo nuestro folclore\, queremos mostrar a la comunidad de Temuco y de la IX región nuestro homenaje a través de un recorrido musical del repertorio del Conjunto Cuncumen\, quienes han albergado a grandes artistas de la talla de Margot Loyola\, Víctor Jara\, Rolando Alarcón\, entre muchos otros.» \nDía: Martes 21 de octubre\nHora: 19.00 horas\nLugar: Aula Magna Monseñor Jorge Hourton\, Campus San Francisco (Manuel Montt #056)\nEntrada: Liberada
URL:https://extension.uct.cl/event/concierto-conjunto-folclorico-aliwen-de-temuco/
LOCATION:Aula Magna\, Manuel Montt 056\, Temuco\, Chile
CATEGORIES:Concierto,Danza
ATTACH;FMTTYPE=image/webp:https://extension.uct.cl/wp-content/uploads/Conjunto-folclorico-Aliwen-de-TemucO-.webp
ORGANIZER;CN="Programa Portal Art%C3%ADstico Aula Magna":MAILTO:aulamagna@uct.cl
END:VEVENT
BEGIN:VEVENT
DTSTART;TZID=America/Santiago:20250724T193000
DTEND;TZID=America/Santiago:20250724T213000
DTSTAMP:20260423T020911
CREATED:20250704T152040Z
LAST-MODIFIED:20250704T152040Z
UID:10000062-1753385400-1753392600@extension.uct.cl
SUMMARY:Concierto Crónicas Tangueras
DESCRIPTION:El concierto Crónicas Tangueras\, reúne a 9 artistas en escena\, para recorrer la historia del tango desde sus inicios y hasta los últimos años del siglo XX.  Un viaje entre Gardel y Piazzolla\, con música\, canto\, baile\, relatos y proyecciones visuales\, que darán vida a una tradición musical que trasciende sus orígenes\, formando parte fundamental de la cultura y el ‘paisaje sonoro’ latinoamericano. \nAgrupación integrada por Nicolás Pacheco (violín); Daniel Fuenzalida (contrabajo); Mario Concha (guitarra); Fernando Oyarzun (flauta); Viviana Ferrer (cantante y relatora); Rodolfo Jorquera\, músico de Valparaíso (bandoneón) y; Esteban Cuvertino (director\, arreglador y pianista.) En el baile\, Rocío Barría y Luis Gallardo\, bailarines de la ciudad de Puerto Montt y Henry Vallejos\, a cargo del sonido. 
URL:https://extension.uct.cl/event/concierto-cronicas-tangueras/
LOCATION:Aula Magna\, Manuel Montt 056\, Temuco\, Chile
CATEGORIES:Concierto,Danza
ATTACH;FMTTYPE=image/webp:https://extension.uct.cl/wp-content/uploads/cronicas-tangueras.webp
ORGANIZER;CN="Programa Portal Art%C3%ADstico Aula Magna":MAILTO:aulamagna@uct.cl
END:VEVENT
BEGIN:VEVENT
DTSTART;TZID=America/Santiago:20250429T200000
DTEND;TZID=America/Santiago:20250429T220000
DTSTAMP:20260423T020911
CREATED:20250424T152704Z
LAST-MODIFIED:20250424T152704Z
UID:10000051-1745956800-1745964000@extension.uct.cl
SUMMARY:Día de la danza
DESCRIPTION:Día Internacional de la Danza con el espectáculo “Araucanía en Escena”\, una muestra vibrante que reúne a destacadas compañías de danza de Temuco en una noche llena de talento\, ritmo y diversidad cultural. \nEn escena\, más de diez agrupaciones locales compartirán estilos tan variados como danza espectáculo\, urbana\, árabe\, heels\, K-pop\, folklore y danzas latinas\, entre otros. Una instancia imperdible para disfrutar del arte en movimiento y apoyar a las y los artistas que dan vida a la danza en nuestra región. \n\n\n20:00 hrs (Apertura de puertas: 19:30 hrs)\nEntrada liberada hasta completar aforo
URL:https://extension.uct.cl/event/dia-de-la-danza/
LOCATION:Aula Magna\, Manuel Montt 056\, Temuco\, Chile
CATEGORIES:Danza
ATTACH;FMTTYPE=image/webp:https://extension.uct.cl/wp-content/uploads/dia-danza.webp
ORGANIZER;CN="Programa Portal Art%C3%ADstico Aula Magna":MAILTO:aulamagna@uct.cl
END:VEVENT
BEGIN:VEVENT
DTSTART;TZID=America/Santiago:20241014T000000
DTEND;TZID=America/Santiago:20241014T000000
DTSTAMP:20260423T020911
CREATED:20240924T004112Z
LAST-MODIFIED:20240927T134347Z
UID:10000036-1728864000-1728864000@extension.uct.cl
SUMMARY:Presentación Colegio Innovarte
DESCRIPTION:El concepto EVOLUCIÓN es el que inspirará el trabajo artístico de la puesta en escena de la Gala 2024 del Colegio Innovarte\, el cual sera desarrollado por estudiantes de kinder a cuarto año medio.\nLa puesta en escena se basará en los cambios que ha vivido el hombre en su manera de expresarse motriz y luego musicalmente\, con la incorporación de instrumentos y la posibilidad de la grabación sonora.\nPequeños preescolares darán cuenta de las etapas más simples de la evolución pasando luego a artistas mayores que abordarán las etapas más complejas en el género de la expresión corporal y musical.
URL:https://extension.uct.cl/event/presentacion-colegio-innovarte/
LOCATION:Aula Magna\, Manuel Montt 056\, Temuco\, Chile
CATEGORIES:Danza
ATTACH;FMTTYPE=image/png:https://extension.uct.cl/wp-content/uploads/evolucion.png
ORGANIZER;CN="Programa Portal Art%C3%ADstico Aula Magna":MAILTO:aulamagna@uct.cl
END:VEVENT
END:VCALENDAR