BEGIN:VCALENDAR
VERSION:2.0
PRODID:-//Universidad Católica de Temuco - ECPv6.15.17.1//NONSGML v1.0//EN
CALSCALE:GREGORIAN
METHOD:PUBLISH
X-WR-CALNAME:Universidad Católica de Temuco
X-ORIGINAL-URL:https://extension.uct.cl
X-WR-CALDESC:Eventos para Universidad Católica de Temuco
REFRESH-INTERVAL;VALUE=DURATION:PT1H
X-Robots-Tag:noindex
X-PUBLISHED-TTL:PT1H
BEGIN:VTIMEZONE
TZID:America/Santiago
BEGIN:STANDARD
TZOFFSETFROM:-0300
TZOFFSETTO:-0400
TZNAME:-04
DTSTART:20230402T030000
END:STANDARD
BEGIN:DAYLIGHT
TZOFFSETFROM:-0400
TZOFFSETTO:-0300
TZNAME:-03
DTSTART:20230903T040000
END:DAYLIGHT
BEGIN:STANDARD
TZOFFSETFROM:-0300
TZOFFSETTO:-0400
TZNAME:-04
DTSTART:20240407T030000
END:STANDARD
BEGIN:DAYLIGHT
TZOFFSETFROM:-0400
TZOFFSETTO:-0300
TZNAME:-03
DTSTART:20240908T040000
END:DAYLIGHT
BEGIN:STANDARD
TZOFFSETFROM:-0300
TZOFFSETTO:-0400
TZNAME:-04
DTSTART:20250406T030000
END:STANDARD
BEGIN:DAYLIGHT
TZOFFSETFROM:-0400
TZOFFSETTO:-0300
TZNAME:-03
DTSTART:20250907T040000
END:DAYLIGHT
BEGIN:STANDARD
TZOFFSETFROM:-0300
TZOFFSETTO:-0400
TZNAME:-04
DTSTART:20260405T030000
END:STANDARD
BEGIN:DAYLIGHT
TZOFFSETFROM:-0400
TZOFFSETTO:-0300
TZNAME:-03
DTSTART:20260906T040000
END:DAYLIGHT
BEGIN:STANDARD
TZOFFSETFROM:-0300
TZOFFSETTO:-0400
TZNAME:-04
DTSTART:20270404T030000
END:STANDARD
BEGIN:DAYLIGHT
TZOFFSETFROM:-0400
TZOFFSETTO:-0300
TZNAME:-03
DTSTART:20270905T040000
END:DAYLIGHT
END:VTIMEZONE
BEGIN:VEVENT
DTSTART;TZID=America/Santiago:20240823T160000
DTEND;TZID=America/Santiago:20240823T170000
DTSTAMP:20260422T224130
CREATED:20240816T213334Z
LAST-MODIFIED:20240816T213334Z
UID:10000028-1724428800-1724432400@extension.uct.cl
SUMMARY:Encuentro con Lito Mille
DESCRIPTION:
URL:https://extension.uct.cl/event/encuentro-con-lito-mille/
LOCATION:Sala de Exposiciones Campus San Francisco\, Manuel Montt #56\, Temuco\, Chile
CATEGORIES:Conversatorio
ATTACH;FMTTYPE=image/png:https://extension.uct.cl/wp-content/uploads/encuentro.png
ORGANIZER;CN="Programa Sala de Exposiciones":MAILTO:salaexposiciones@uct.cl
END:VEVENT
BEGIN:VEVENT
DTSTART;TZID=America/Santiago:20250625T170000
DTEND;TZID=America/Santiago:20250625T183000
DTSTAMP:20260422T224130
CREATED:20250611T161044Z
LAST-MODIFIED:20250611T161611Z
UID:10000057-1750870800-1750876200@extension.uct.cl
SUMMARY:Conversatorio "Escribirse: Mujeres\, lenguajes y territorios"
DESCRIPTION:Lanzamiento de la segunda versión con el conversatorio «Escribirse: Mujeres\, lenguajes y territorios. Cruces entre creación e investigación» donde se presentará la destacada escritora Coyahiquina Ivonne Coñuecar y la académica e investigadora Carolina Navarrete. Junto a ellas estarán las gestoras principales del proyecto durante este periodo: la académica del Departamento de Lenguas UCT\, Alejandra Contreras y la coordinadora de Ediciones UCT\, Claudia Campos.\n\nEn esta instancia se dialogará junto a las invitadas sobre la importancia de la creación artística de las mujeres en su apuesta por el territorio y también conocer qué se está haciendo en el ámbito de la investigación y la publicación. Además\, en la misma actividad\, se anunciarán las etapas contempladas para este año 2025.\n\nEste encuentro se realizará el día 25 de junio a las 17:00 horas en el auditorio H2 del Campus San Francisco de la Universidad Católica de Temuco.
URL:https://extension.uct.cl/event/8947/
LOCATION:Auditorio H2\, Manuel Montt #56\, Temuco\, Chile
CATEGORIES:Conversatorio
ATTACH;FMTTYPE=image/webp:https://extension.uct.cl/wp-content/uploads/surenas.webp
ORGANIZER;CN="Ediciones UCT":MAILTO:ediciones@uct.cl
END:VEVENT
BEGIN:VEVENT
DTSTART;TZID=America/Santiago:20250707T150000
DTEND;TZID=America/Santiago:20250707T170000
DTSTAMP:20260422T224130
CREATED:20250704T153509Z
LAST-MODIFIED:20250704T222850Z
UID:10000065-1751900400-1751907600@extension.uct.cl
SUMMARY:Conversatorio Exposición "Afectos Varios" - Egresadas FAAD
DESCRIPTION:Conversatorio de la Exposición «Afectos Varios»\, con las estudiantes egresadas de FAAD que exponen sus obras. \nDesde distintos lenguajes expresivos contemporáneos\, estos proyectos interrogan formatos instalativos\, medios audiovisuales\, lenguajes escultóricos\, fotográficos y de documentación a modo de ir explorando diferentes contextos desde lo singular y lo colectivo. Esta selección de proyectos de titulación muestra diversas miradas sobre el presente del arte joven en nuestra región \n17.00 hrs.\nSala de Exposiciones San Francisco
URL:https://extension.uct.cl/event/conversatorio-exposicion-afectos-varios-egresadas-faad/
LOCATION:Sala de Exposiciones Campus San Francisco\, Manuel Montt #56\, Temuco\, Chile
CATEGORIES:Conversatorio
ATTACH;FMTTYPE=image/webp:https://extension.uct.cl/wp-content/uploads/afectos-1.webp
ORGANIZER;CN="Programa Sala de Exposiciones":MAILTO:salaexposiciones@uct.cl
END:VEVENT
BEGIN:VEVENT
DTSTART;TZID=America/Santiago:20250829T190000
DTEND;TZID=America/Santiago:20250829T210000
DTSTAMP:20260422T224130
CREATED:20250827T153511Z
LAST-MODIFIED:20250827T153552Z
UID:10000078-1756494000-1756501200@extension.uct.cl
SUMMARY:El Ladrón de Perros
DESCRIPTION:Les invitamos a ver la película y al conversatorio con su director Vinko Tomicic Salinas. \nSinopsis: Martín\, un joven huérfano que trabaja como limpiabotas en las calles de La Paz\, Bolivia\, decide robar el perro de su mejor cliente\, un solitario sastre al que ha empezado a imaginar como su padre. \n2025: Premios Platino del Cine Iberoamericano: Mejor Ópera prima. 2 nominaciones\n2024: Festival Internacional de Mar del Plata: Mejor película latinoamericana – Mención Especial. 2 nominaciones\n2025: Festival de Málaga: Mejor película Iberoamericana. 2 nominaciones\n2024: Premios Forqué: Nominada a Mejor película latinoamericana.
URL:https://extension.uct.cl/event/el-ladron-de-perros/
LOCATION:Auditorio H2\, Manuel Montt #56\, Temuco\, Chile
CATEGORIES:Conversatorio,Películas
ATTACH;FMTTYPE=image/webp:https://extension.uct.cl/wp-content/uploads/ladron-de-perros.webp
ORGANIZER;CN="Programa Portal Art%C3%ADstico Aula Magna":MAILTO:aulamagna@uct.cl
END:VEVENT
BEGIN:VEVENT
DTSTART;TZID=America/Santiago:20250915T130000
DTEND;TZID=America/Santiago:20250915T170000
DTSTAMP:20260422T224130
CREATED:20250909T131322Z
LAST-MODIFIED:20250909T131502Z
UID:10000084-1757941200-1757955600@extension.uct.cl
SUMMARY:Conversatorio de cierre exposición Ausencia
DESCRIPTION:Conversatorio de cierre con los artistas de la exposición Ausencia (Jorge Medel y Sofía de la Peña) en colaboración con el departamento de artesanías.
URL:https://extension.uct.cl/event/conversatorio-de-cierre-exposicion-ausencia/
LOCATION:Sala de Exposiciones Campus San Francisco\, Manuel Montt #56\, Temuco\, Chile
CATEGORIES:Conversatorio
ATTACH;FMTTYPE=image/webp:https://extension.uct.cl/wp-content/uploads/ausencia-scaled.webp
ORGANIZER;CN="Programa Sala de Exposiciones":MAILTO:salaexposiciones@uct.cl
END:VEVENT
BEGIN:VEVENT
DTSTART;TZID=America/Santiago:20260421T110000
DTEND;TZID=America/Santiago:20260421T120000
DTSTAMP:20260422T224130
CREATED:20260408T150611Z
LAST-MODIFIED:20260408T150630Z
UID:10000161-1776769200-1776772800@extension.uct.cl
SUMMARY:Presentación de libro "Veloz se fue el sueño"
DESCRIPTION:El programa Viva Comuna junto a Ediciones UCT realizarán\, el marco de la celebración del Día del Libro y Derecho de Autor/a\, la presentación del 5°poemario de la Colección Kuramochi: Veloz se fue el sueño\, de la autora regional Sonia Huentemil. \n\n\nMartes 21 de abril\, 11:00 H\, Biblioteca Municipal\, Pitrufquén.
URL:https://extension.uct.cl/event/presentacion-de-libro-veloz-se-fue-el-sueno/
LOCATION:Centro Cultural Pitrufquén\, Vicuña Mackenna 891\, Pitrufquén\, Temuco\, Chile
CATEGORIES:Conversatorio
ATTACH;FMTTYPE=image/webp:https://extension.uct.cl/wp-content/uploads/veloz-se-fue.webp
ORGANIZER;CN="Programa Viva Comuna":MAILTO:vivacomuna@uct.cl
END:VEVENT
END:VCALENDAR