BEGIN:VCALENDAR
VERSION:2.0
PRODID:-//Universidad Católica de Temuco - ECPv6.15.17.1//NONSGML v1.0//EN
CALSCALE:GREGORIAN
METHOD:PUBLISH
X-WR-CALNAME:Universidad Católica de Temuco
X-ORIGINAL-URL:https://extension.uct.cl
X-WR-CALDESC:Eventos para Universidad Católica de Temuco
REFRESH-INTERVAL;VALUE=DURATION:PT1H
X-Robots-Tag:noindex
X-PUBLISHED-TTL:PT1H
BEGIN:VTIMEZONE
TZID:America/Santiago
BEGIN:STANDARD
TZOFFSETFROM:-0300
TZOFFSETTO:-0400
TZNAME:-04
DTSTART:20240407T030000
END:STANDARD
BEGIN:DAYLIGHT
TZOFFSETFROM:-0400
TZOFFSETTO:-0300
TZNAME:-03
DTSTART:20240908T040000
END:DAYLIGHT
BEGIN:STANDARD
TZOFFSETFROM:-0300
TZOFFSETTO:-0400
TZNAME:-04
DTSTART:20250406T030000
END:STANDARD
BEGIN:DAYLIGHT
TZOFFSETFROM:-0400
TZOFFSETTO:-0300
TZNAME:-03
DTSTART:20250907T040000
END:DAYLIGHT
BEGIN:STANDARD
TZOFFSETFROM:-0300
TZOFFSETTO:-0400
TZNAME:-04
DTSTART:20260405T030000
END:STANDARD
BEGIN:DAYLIGHT
TZOFFSETFROM:-0400
TZOFFSETTO:-0300
TZNAME:-03
DTSTART:20260906T040000
END:DAYLIGHT
END:VTIMEZONE
BEGIN:VEVENT
DTSTART;TZID=America/Santiago:20251211T190000
DTEND;TZID=America/Santiago:20251211T210000
DTSTAMP:20260423T034238
CREATED:20251127T124753Z
LAST-MODIFIED:20251127T132947Z
UID:10000116-1765479600-1765486800@extension.uct.cl
SUMMARY:Concierto Fin de Año AAM
DESCRIPTION:Concierto de fin de año de estudiantes de la AAM\, donde cada uno interpreta las obras trabajadas durante el año. Se presentaran estudiantes de piano\, flauta traversa\, guitarra clásica\, violín\, violoncello\, percusión entre otros.
URL:https://extension.uct.cl/event/concierto-fin-de-ano-aam/
LOCATION:Aula Magna\, Manuel Montt 056\, Temuco\, Chile
CATEGORIES:Concierto
ATTACH;FMTTYPE=image/webp:https://extension.uct.cl/wp-content/uploads/convcierto-aam.webp
ORGANIZER;CN="Academia de Artes Musicales":MAILTO:academiadeartesmusicales@uct.cl
END:VEVENT
BEGIN:VEVENT
DTSTART;TZID=America/Santiago:20251217T200000
DTEND;TZID=America/Santiago:20251217T213000
DTSTAMP:20260423T034238
CREATED:20251127T130043Z
LAST-MODIFIED:20251127T133110Z
UID:10000117-1766001600-1766007000@extension.uct.cl
SUMMARY:Concierto de Navidad Coro Sinfónico UCT
DESCRIPTION:Concierto de Navidad Coro Sinfónico UCT\nTenemos el agrado de invitar a toda la comunidad al concierto de este año donde se interpretará música sacra\, negro spiritual y villancicos tradicionales\, dirigidos por el maestro Eduardo Gajardo Schmidlin y acompañados al piano por Susana Espinoza. Entrada liberada
URL:https://extension.uct.cl/event/concierto-de-navidad-coro-sinfonico-uct/
LOCATION:Catedral de Temuco\, Claro Solar 835\, Temuco\, Araucanía\, 4791057\, Chile
CATEGORIES:Concierto
ATTACH;FMTTYPE=image/webp:https://extension.uct.cl/wp-content/uploads/CATEDRAL.webp
ORGANIZER;CN="Academia de Artes Musicales":MAILTO:academiadeartesmusicales@uct.cl
END:VEVENT
BEGIN:VEVENT
DTSTART;TZID=America/Santiago:20251223T190000
DTEND;TZID=America/Santiago:20251223T200000
DTSTAMP:20260423T034238
CREATED:20251210T143636Z
LAST-MODIFIED:20251210T144333Z
UID:10000125-1766516400-1766520000@extension.uct.cl
SUMMARY:Recital de Flauta Traversa y Piano
DESCRIPTION:Recital de Flauta Traversa y Piano a cargo de los maestros Marcelo Danton y Christofer Flandes\, interpretaran obras de Schubert\, Poulenc\, Debussy\, Bizet-Borne\, entrada liberada
URL:https://extension.uct.cl/event/concierto-de-flauta-traversa-y-piano/
LOCATION:Auditorio Academia de Artes Musicales\, Avenida Alemania 0422\, Temuco\, Selecciona una provincia:\, Chile
CATEGORIES:Concierto
ATTACH;FMTTYPE=image/webp:https://extension.uct.cl/wp-content/uploads/Cristofer-y-Marcelo.webp
ORGANIZER;CN="Academia de Artes Musicales":MAILTO:academiadeartesmusicales@uct.cl
END:VEVENT
END:VCALENDAR