BEGIN:VCALENDAR
VERSION:2.0
PRODID:-//Universidad Católica de Temuco - ECPv6.15.17.1//NONSGML v1.0//EN
CALSCALE:GREGORIAN
METHOD:PUBLISH
X-WR-CALNAME:Universidad Católica de Temuco
X-ORIGINAL-URL:https://extension.uct.cl
X-WR-CALDESC:Eventos para Universidad Católica de Temuco
REFRESH-INTERVAL;VALUE=DURATION:PT1H
X-Robots-Tag:noindex
X-PUBLISHED-TTL:PT1H
BEGIN:VTIMEZONE
TZID:America/Santiago
BEGIN:STANDARD
TZOFFSETFROM:-0300
TZOFFSETTO:-0400
TZNAME:-04
DTSTART:20240407T030000
END:STANDARD
BEGIN:DAYLIGHT
TZOFFSETFROM:-0400
TZOFFSETTO:-0300
TZNAME:-03
DTSTART:20240908T040000
END:DAYLIGHT
BEGIN:STANDARD
TZOFFSETFROM:-0300
TZOFFSETTO:-0400
TZNAME:-04
DTSTART:20250406T030000
END:STANDARD
BEGIN:DAYLIGHT
TZOFFSETFROM:-0400
TZOFFSETTO:-0300
TZNAME:-03
DTSTART:20250907T040000
END:DAYLIGHT
BEGIN:STANDARD
TZOFFSETFROM:-0300
TZOFFSETTO:-0400
TZNAME:-04
DTSTART:20260405T030000
END:STANDARD
BEGIN:DAYLIGHT
TZOFFSETFROM:-0400
TZOFFSETTO:-0300
TZNAME:-03
DTSTART:20260906T040000
END:DAYLIGHT
END:VTIMEZONE
BEGIN:VEVENT
DTSTART;TZID=America/Santiago:20250912T080000
DTEND;TZID=America/Santiago:20250913T170000
DTSTAMP:20260422T225459
CREATED:20250908T154714Z
LAST-MODIFIED:20250908T154714Z
UID:9443-1757664000-1757782800@extension.uct.cl
SUMMARY:VIII Feria de Homenaje al Libro Indígena e Intercultural
DESCRIPTION:El evento se realizará los días 12 y 13 de septiembre en el Centro Cultural Gabriela Mistral.\nLa feria es organizada por el Plan de Lectura de la Seremi de las Culturas\, las Artes y el Patrimonio de la Región Metropolitana\, en colaboración con la Sección Regional Metropolitana de la Subdirección Nacional de Pueblos Originarios del Servicio Nacional del Patrimonio Cultural\, y cuenta con el apoyo de la Universidad Católica Silva Henríquez
URL:https://extension.uct.cl/event/viii-feria-de-homenaje-al-libro-indigena-e-intercultural/
CATEGORIES:Feria de libros
ATTACH;FMTTYPE=image/webp:https://extension.uct.cl/wp-content/uploads/indigena-libros.webp
ORGANIZER;CN="Ediciones UCT":MAILTO:ediciones@uct.cl
END:VEVENT
END:VCALENDAR