BEGIN:VCALENDAR
VERSION:2.0
PRODID:-//Universidad Católica de Temuco - ECPv6.15.17.1//NONSGML v1.0//EN
CALSCALE:GREGORIAN
METHOD:PUBLISH
X-WR-CALNAME:Universidad Católica de Temuco
X-ORIGINAL-URL:https://extension.uct.cl
X-WR-CALDESC:Eventos para Universidad Católica de Temuco
REFRESH-INTERVAL;VALUE=DURATION:PT1H
X-Robots-Tag:noindex
X-PUBLISHED-TTL:PT1H
BEGIN:VTIMEZONE
TZID:America/Santiago
BEGIN:STANDARD
TZOFFSETFROM:-0300
TZOFFSETTO:-0400
TZNAME:-04
DTSTART:20250406T030000
END:STANDARD
BEGIN:DAYLIGHT
TZOFFSETFROM:-0400
TZOFFSETTO:-0300
TZNAME:-03
DTSTART:20250907T040000
END:DAYLIGHT
BEGIN:STANDARD
TZOFFSETFROM:-0300
TZOFFSETTO:-0400
TZNAME:-04
DTSTART:20260405T030000
END:STANDARD
BEGIN:DAYLIGHT
TZOFFSETFROM:-0400
TZOFFSETTO:-0300
TZNAME:-03
DTSTART:20260906T040000
END:DAYLIGHT
BEGIN:STANDARD
TZOFFSETFROM:-0300
TZOFFSETTO:-0400
TZNAME:-04
DTSTART:20270404T030000
END:STANDARD
BEGIN:DAYLIGHT
TZOFFSETFROM:-0400
TZOFFSETTO:-0300
TZNAME:-03
DTSTART:20270905T040000
END:DAYLIGHT
END:VTIMEZONE
BEGIN:VEVENT
DTSTART;TZID=America/Santiago:20260416T100000
DTEND;TZID=America/Santiago:20260416T170000
DTSTAMP:20260422T184929
CREATED:20260408T141326Z
LAST-MODIFIED:20260408T141326Z
UID:11092-1776333600-1776358800@extension.uct.cl
SUMMARY:Venta de Bodega Ediciones UCT CSJII
DESCRIPTION:¡En Ediciones UCT Celebramos el mes del libro!\nLos mejores descuentos y promociones para estudiantes\, docentes y público en general. \nJueves 16 de abril\, de 10:00 a 17:00 H\, Primer piso Edificio Adalberto Salas\, Campus San Juan Pablo II.
URL:https://extension.uct.cl/event/venta-de-bodega-ediciones-uct-csjii/
LOCATION:Edificio Adalberto Salas\, Rudecindo Ortega 02950\, Temuco\, Chile
ATTACH;FMTTYPE=image/webp:https://extension.uct.cl/wp-content/uploads/bodega-csjpii.webp
ORGANIZER;CN="Ediciones UCT":MAILTO:ediciones@uct.cl
END:VEVENT
END:VCALENDAR