BEGIN:VCALENDAR
VERSION:2.0
PRODID:-//Universidad Católica de Temuco - ECPv6.15.17.1//NONSGML v1.0//EN
CALSCALE:GREGORIAN
METHOD:PUBLISH
X-WR-CALNAME:Universidad Católica de Temuco
X-ORIGINAL-URL:https://extension.uct.cl
X-WR-CALDESC:Eventos para Universidad Católica de Temuco
REFRESH-INTERVAL;VALUE=DURATION:PT1H
X-Robots-Tag:noindex
X-PUBLISHED-TTL:PT1H
BEGIN:VTIMEZONE
TZID:America/Santiago
BEGIN:STANDARD
TZOFFSETFROM:-0300
TZOFFSETTO:-0400
TZNAME:-04
DTSTART:20250406T030000
END:STANDARD
BEGIN:DAYLIGHT
TZOFFSETFROM:-0400
TZOFFSETTO:-0300
TZNAME:-03
DTSTART:20250907T040000
END:DAYLIGHT
BEGIN:STANDARD
TZOFFSETFROM:-0300
TZOFFSETTO:-0400
TZNAME:-04
DTSTART:20260405T030000
END:STANDARD
BEGIN:DAYLIGHT
TZOFFSETFROM:-0400
TZOFFSETTO:-0300
TZNAME:-03
DTSTART:20260906T040000
END:DAYLIGHT
BEGIN:STANDARD
TZOFFSETFROM:-0300
TZOFFSETTO:-0400
TZNAME:-04
DTSTART:20270404T030000
END:STANDARD
BEGIN:DAYLIGHT
TZOFFSETFROM:-0400
TZOFFSETTO:-0300
TZNAME:-03
DTSTART:20270905T040000
END:DAYLIGHT
END:VTIMEZONE
BEGIN:VEVENT
DTSTART;TZID=America/Santiago:20260106T193000
DTEND;TZID=America/Santiago:20260106T213000
DTSTAMP:20260422T224013
CREATED:20251222T144917Z
LAST-MODIFIED:20251222T144941Z
UID:10000127-1767727800-1767735000@extension.uct.cl
SUMMARY:Un Verano de Películas
DESCRIPTION:TODOS LOS MARTES DE ENERO \n06 de enero\n«Cleo de 5 a 7» + Conversatorio\n“La dirección femenina en el cine”\nDir: Agnès Varda\n1962 / 90 min \n  \n13 de enero\n«The Ramba Effect» + Conversatorio con\nCarolina Nazar\, cuidadora de Ramba\nDir: Claire Sand \n  \n20 de enero\n«Valparaíso mi amor» + Conversatorio\n“Infancias en el cine chileno”\nDir: Aldo Francia\nPelícula del Archivo de la Cineteca Nacional de Chile\n1969 / 90 min \n27 de enero\nCortometrajes Ganadores del 7mo Festival de Cine Rukapillan + Conversatorio con los fundadores del Festival \n«Agua fría»\, «Petra y el sol»\, «5 formas de borrar un chupón» \n  \n19:30 horas\nAuditorio H2\nCampus San Francisco\nManuel Montt 056
URL:https://extension.uct.cl/event/un-verano-de-peliculas-5/2026-01-06/
LOCATION:Auditorio H2\, Manuel Montt #56\, Temuco\, Chile
CATEGORIES:Cine
ATTACH;FMTTYPE=image/webp:https://extension.uct.cl/wp-content/uploads/cartel-peliculas.webp
ORGANIZER;CN="Programa Portal Art%C3%ADstico Aula Magna":MAILTO:aulamagna@uct.cl
END:VEVENT
END:VCALENDAR