BEGIN:VCALENDAR
VERSION:2.0
PRODID:-//Universidad Católica de Temuco - ECPv6.15.17.1//NONSGML v1.0//EN
CALSCALE:GREGORIAN
METHOD:PUBLISH
X-WR-CALNAME:Universidad Católica de Temuco
X-ORIGINAL-URL:https://extension.uct.cl
X-WR-CALDESC:Eventos para Universidad Católica de Temuco
REFRESH-INTERVAL;VALUE=DURATION:PT1H
X-Robots-Tag:noindex
X-PUBLISHED-TTL:PT1H
BEGIN:VTIMEZONE
TZID:America/Santiago
BEGIN:STANDARD
TZOFFSETFROM:-0300
TZOFFSETTO:-0400
TZNAME:-04
DTSTART:20240407T030000
END:STANDARD
BEGIN:DAYLIGHT
TZOFFSETFROM:-0400
TZOFFSETTO:-0300
TZNAME:-03
DTSTART:20240908T040000
END:DAYLIGHT
BEGIN:STANDARD
TZOFFSETFROM:-0300
TZOFFSETTO:-0400
TZNAME:-04
DTSTART:20250406T030000
END:STANDARD
BEGIN:DAYLIGHT
TZOFFSETFROM:-0400
TZOFFSETTO:-0300
TZNAME:-03
DTSTART:20250907T040000
END:DAYLIGHT
BEGIN:STANDARD
TZOFFSETFROM:-0300
TZOFFSETTO:-0400
TZNAME:-04
DTSTART:20260405T030000
END:STANDARD
BEGIN:DAYLIGHT
TZOFFSETFROM:-0400
TZOFFSETTO:-0300
TZNAME:-03
DTSTART:20260906T040000
END:DAYLIGHT
END:VTIMEZONE
BEGIN:VEVENT
DTSTART;TZID=America/Santiago:20250912T200000
DTEND;TZID=America/Santiago:20250912T210000
DTSTAMP:20260423T002016
CREATED:20250908T160606Z
LAST-MODIFIED:20250908T160606Z
UID:9452-1757707200-1757710800@extension.uct.cl
SUMMARY:Teatro en Gorbea
DESCRIPTION:Los mitos y leyendas del campo chileno se hacen presente de la mano de una original obra a cargo de la Compañía de Teatro de la Universidad Católica de Temuco. Hablamos de “El diablo bailó la cueca y el gallo se la cantó”\, propuesta dirigida por la reconocida dramaturga Sandra Meezs\, y escrita por Jesús Galarce. \n  \nLUGAR: Espacio Cultural «La Vieja Escuela» \nDirección: Blanco con Carrera\, Gorbea \nHorario: 20:00 horas. \n  \nOrganiza: TEATROMANÍA
URL:https://extension.uct.cl/event/teatro-en-gorbea/
CATEGORIES:Teatro
ATTACH;FMTTYPE=image/webp:https://extension.uct.cl/wp-content/uploads/TEATRO-GORBEa.webp
END:VEVENT
END:VCALENDAR