BEGIN:VCALENDAR
VERSION:2.0
PRODID:-//Universidad Católica de Temuco - ECPv6.15.17.1//NONSGML v1.0//EN
CALSCALE:GREGORIAN
METHOD:PUBLISH
X-WR-CALNAME:Universidad Católica de Temuco
X-ORIGINAL-URL:https://extension.uct.cl
X-WR-CALDESC:Eventos para Universidad Católica de Temuco
REFRESH-INTERVAL;VALUE=DURATION:PT1H
X-Robots-Tag:noindex
X-PUBLISHED-TTL:PT1H
BEGIN:VTIMEZONE
TZID:America/Santiago
BEGIN:STANDARD
TZOFFSETFROM:-0300
TZOFFSETTO:-0400
TZNAME:-04
DTSTART:20240407T030000
END:STANDARD
BEGIN:DAYLIGHT
TZOFFSETFROM:-0400
TZOFFSETTO:-0300
TZNAME:-03
DTSTART:20240908T040000
END:DAYLIGHT
BEGIN:STANDARD
TZOFFSETFROM:-0300
TZOFFSETTO:-0400
TZNAME:-04
DTSTART:20250406T030000
END:STANDARD
BEGIN:DAYLIGHT
TZOFFSETFROM:-0400
TZOFFSETTO:-0300
TZNAME:-03
DTSTART:20250907T040000
END:DAYLIGHT
BEGIN:STANDARD
TZOFFSETFROM:-0300
TZOFFSETTO:-0400
TZNAME:-04
DTSTART:20260405T030000
END:STANDARD
BEGIN:DAYLIGHT
TZOFFSETFROM:-0400
TZOFFSETTO:-0300
TZNAME:-03
DTSTART:20260906T040000
END:DAYLIGHT
END:VTIMEZONE
BEGIN:VEVENT
DTSTART;TZID=America/Santiago:20250630T170000
DTEND;TZID=America/Santiago:20250630T183000
DTSTAMP:20260423T002335
CREATED:20250611T160421Z
LAST-MODIFIED:20250616T140500Z
UID:8943-1751302800-1751308200@extension.uct.cl
SUMMARY:Libro: De la Fuerza de la Palabra a la Palabra Forzada. 
DESCRIPTION:En el marco del Wiñon Antü\, Gertrudis Payàs y José Manuel Zavala presentan: De la fuerza de la palabra a la palabra forzada. Parlamentos y otros encuentros mapuche-chilenos (1811-1882) \nUn testimonio excepcional de cómo fueron entendidos y sufridos los vaivenes de la política que se originaban en la capital\, y de los ingentes obstáculos que se oponían a las dirigencias mapuche para lograr unas condiciones mínimas de tranquilidad que aseguraran la supervivencia de su gente.
URL:https://extension.uct.cl/event/presentacion-de-la-fuerza-de-la-palabra-a-la-palabra-forzada/
LOCATION:Auditorio H2\, Manuel Montt #56\, Temuco\, Chile
CATEGORIES:Lanzamiento
ATTACH;FMTTYPE=image/jpeg:https://extension.uct.cl/wp-content/uploads/Lanzamiento-libro-de-la-fuerza-de-la-palabra.jpg
ORGANIZER;CN="Ediciones UCT":MAILTO:ediciones@uct.cl
END:VEVENT
END:VCALENDAR