BEGIN:VCALENDAR
VERSION:2.0
PRODID:-//Universidad Católica de Temuco - ECPv6.15.17.1//NONSGML v1.0//EN
CALSCALE:GREGORIAN
METHOD:PUBLISH
X-WR-CALNAME:Universidad Católica de Temuco
X-ORIGINAL-URL:https://extension.uct.cl
X-WR-CALDESC:Eventos para Universidad Católica de Temuco
REFRESH-INTERVAL;VALUE=DURATION:PT1H
X-Robots-Tag:noindex
X-PUBLISHED-TTL:PT1H
BEGIN:VTIMEZONE
TZID:America/Santiago
BEGIN:STANDARD
TZOFFSETFROM:-0300
TZOFFSETTO:-0400
TZNAME:-04
DTSTART:20230402T030000
END:STANDARD
BEGIN:DAYLIGHT
TZOFFSETFROM:-0400
TZOFFSETTO:-0300
TZNAME:-03
DTSTART:20230903T040000
END:DAYLIGHT
BEGIN:STANDARD
TZOFFSETFROM:-0300
TZOFFSETTO:-0400
TZNAME:-04
DTSTART:20240407T030000
END:STANDARD
BEGIN:DAYLIGHT
TZOFFSETFROM:-0400
TZOFFSETTO:-0300
TZNAME:-03
DTSTART:20240908T040000
END:DAYLIGHT
BEGIN:STANDARD
TZOFFSETFROM:-0300
TZOFFSETTO:-0400
TZNAME:-04
DTSTART:20250406T030000
END:STANDARD
BEGIN:DAYLIGHT
TZOFFSETFROM:-0400
TZOFFSETTO:-0300
TZNAME:-03
DTSTART:20250907T040000
END:DAYLIGHT
END:VTIMEZONE
BEGIN:VEVENT
DTSTART;TZID=America/Santiago:20241018T100000
DTEND;TZID=America/Santiago:20241018T130000
DTSTAMP:20260423T001932
CREATED:20240923T232202Z
LAST-MODIFIED:20240925T151806Z
UID:7864-1729245600-1729256400@extension.uct.cl
SUMMARY:Lanzamiento libro: Ngenpin
DESCRIPTION:Este libro\, presentado por la Cátedra Fray Bartolomé de las Casas\, y coeditado con Ediciones UCTemuco es un homenaje al saber mapuche a través de las vivencias y enseñanzas de Don Florencio Manquilef Huichal\, un destacado líder espiritual y maestro. Se busca visibilizar y preservar la cultura mapuche mediante la escritura\, abordando la necesidad de compartir su riqueza y profundidad en un contexto contemporáneo. \nOrganiza: Instituto Ta Iñ Pewam
URL:https://extension.uct.cl/event/lanzamiento-libro-ngenpin/
LOCATION:Auditorio Oscar Cartagena\, Rudecindo Ortega 02950\, Temuco\, Chile
CATEGORIES:Lanzamiento
ATTACH;FMTTYPE=image/png:https://extension.uct.cl/wp-content/uploads/eve_ngenpin.png
ORGANIZER;CN="C%C3%A1tedra Fray Bartolom%C3%A9 de Las Casas":MAILTO:catedralascasas@uct.cl
END:VEVENT
END:VCALENDAR