BEGIN:VCALENDAR
VERSION:2.0
PRODID:-//Universidad Católica de Temuco - ECPv6.15.17.1//NONSGML v1.0//EN
CALSCALE:GREGORIAN
METHOD:PUBLISH
X-WR-CALNAME:Universidad Católica de Temuco
X-ORIGINAL-URL:https://extension.uct.cl
X-WR-CALDESC:Eventos para Universidad Católica de Temuco
REFRESH-INTERVAL;VALUE=DURATION:PT1H
X-Robots-Tag:noindex
X-PUBLISHED-TTL:PT1H
BEGIN:VTIMEZONE
TZID:America/Santiago
BEGIN:STANDARD
TZOFFSETFROM:-0300
TZOFFSETTO:-0400
TZNAME:-04
DTSTART:20240407T030000
END:STANDARD
BEGIN:DAYLIGHT
TZOFFSETFROM:-0400
TZOFFSETTO:-0300
TZNAME:-03
DTSTART:20240908T040000
END:DAYLIGHT
BEGIN:STANDARD
TZOFFSETFROM:-0300
TZOFFSETTO:-0400
TZNAME:-04
DTSTART:20250406T030000
END:STANDARD
BEGIN:DAYLIGHT
TZOFFSETFROM:-0400
TZOFFSETTO:-0300
TZNAME:-03
DTSTART:20250907T040000
END:DAYLIGHT
BEGIN:STANDARD
TZOFFSETFROM:-0300
TZOFFSETTO:-0400
TZNAME:-04
DTSTART:20260405T030000
END:STANDARD
BEGIN:DAYLIGHT
TZOFFSETFROM:-0400
TZOFFSETTO:-0300
TZNAME:-03
DTSTART:20260906T040000
END:DAYLIGHT
END:VTIMEZONE
BEGIN:VEVENT
DTSTART;TZID=America/Santiago:20250804T080000
DTEND;TZID=America/Santiago:20250804T200000
DTSTAMP:20260423T002213
CREATED:20250725T172559Z
LAST-MODIFIED:20250725T173331Z
UID:9067-1754294400-1754337600@extension.uct.cl
SUMMARY:Inauguración Expo AUSENCIA
DESCRIPTION:La Sala San Francisco de la Universidad Católica de Temuco inaugura la exposición «Ausencia»\, una muestra de artes visuales contemporáneas de Sofía De la Peña y Jorge Medel\, este martes 5 de Agosto a las 18:00 hrs. La muestra estará disponible hasta el 2 de septiembre. La exposición es parte del trabajo del colectivo @proyecto_kotu y es con entrada liberada. \n«Ausencia» invita a reflexionar sobre la memoria y la identidad. A través de una propuesta visual íntima y sensorial\, que reúne obras de platería\, dibujo y pintura. Los artistas proponen un diálogo artístico en torno a lo que se pierde\, lo que se transforma y lo que persiste\, mediante piezas que cruzan límites entre arte visual\, objeto y relato.
URL:https://extension.uct.cl/event/inauguracion-expo-ausencia/
LOCATION:Sala de Exposiciones Campus San Francisco\, Manuel Montt #56\, Temuco\, Chile
CATEGORIES:Inauguración
ATTACH;FMTTYPE=image/webp:https://extension.uct.cl/wp-content/uploads/ausencia-imagen.webp
ORGANIZER;CN="Programa Sala de Exposiciones":MAILTO:salaexposiciones@uct.cl
END:VEVENT
END:VCALENDAR