BEGIN:VCALENDAR
VERSION:2.0
PRODID:-//Universidad Católica de Temuco - ECPv6.15.17.1//NONSGML v1.0//EN
CALSCALE:GREGORIAN
METHOD:PUBLISH
X-WR-CALNAME:Universidad Católica de Temuco
X-ORIGINAL-URL:https://extension.uct.cl
X-WR-CALDESC:Eventos para Universidad Católica de Temuco
REFRESH-INTERVAL;VALUE=DURATION:PT1H
X-Robots-Tag:noindex
X-PUBLISHED-TTL:PT1H
BEGIN:VTIMEZONE
TZID:America/Santiago
BEGIN:STANDARD
TZOFFSETFROM:-0300
TZOFFSETTO:-0400
TZNAME:-04
DTSTART:20230402T030000
END:STANDARD
BEGIN:DAYLIGHT
TZOFFSETFROM:-0400
TZOFFSETTO:-0300
TZNAME:-03
DTSTART:20230903T040000
END:DAYLIGHT
BEGIN:STANDARD
TZOFFSETFROM:-0300
TZOFFSETTO:-0400
TZNAME:-04
DTSTART:20240407T030000
END:STANDARD
BEGIN:DAYLIGHT
TZOFFSETFROM:-0400
TZOFFSETTO:-0300
TZNAME:-03
DTSTART:20240908T040000
END:DAYLIGHT
BEGIN:STANDARD
TZOFFSETFROM:-0300
TZOFFSETTO:-0400
TZNAME:-04
DTSTART:20250406T030000
END:STANDARD
BEGIN:DAYLIGHT
TZOFFSETFROM:-0400
TZOFFSETTO:-0300
TZNAME:-03
DTSTART:20250907T040000
END:DAYLIGHT
END:VTIMEZONE
BEGIN:VEVENT
DTSTART;TZID=America/Santiago:20240814T180000
DTEND;TZID=America/Santiago:20240814T200000
DTSTAMP:20260423T015623
CREATED:20240806T151651Z
LAST-MODIFIED:20240809T051517Z
UID:6895-1723658400-1723665600@extension.uct.cl
SUMMARY:Éxtasis en Dos Guitarras
DESCRIPTION:Este evento ha pasado. \n				\n				\n				\n				\n					\n	« Todos los Eventos\n 				\n				\n				\n				\n					\n	Éxtasis en Dos Guitarras				\n				\n				\n				\n							\n			\n						\n		\n						\n				\n				\n				\n					Concierto del Dúo Orlandini- Luco\, a cargo de los maestros Luis Orlandini y Raimundo Luco en guitarra. El evento\, a realizarse en el Aula Magna de la Universidad Católica de Temuco\, inaugura parte de la cartelera cultural del segundo semestre de 2024. En dicho concierto\, el dúo presentará un repertorio que abarca desde transcripciones de obras clásicas hasta música latinoamericana contemporánea. \n\nEl profesor de la Facultad de Artes de la Universidad de Chile y del Instituto de Música UC\, Premio Presidente de la República 2007 y voz autorizada para hablar de música clásica nacional\, vuelve a Temuco\, esta vez con un formato que ya lo ha llevado a diferentes lados de Chile\, España y Alemania.\n				\n				\n				\n						\n					\n			\n				\n					\n		\n				\n				\n					\n	\n				\n				\n				\n		\n					\n		\n				\n				\n					¿Cuándo?				\n				\n				\n				\n					\n		\n			14 agosto\n\n	\n\n	  /  \n\n\n7:00 pm\n\n		\n\n\n\n	\n	  -  \n\n9:00 pm\n\n\n\n	\n				\n				\n				\n				\n					\nGratuito 				\n				\n				\n				\n					¿Dónde?				\n				\n				\n				\n					\n				\n				\n	\n		Aula Magna	\n	\n	Dirección:\n	\n\nManuel Montt 056\n	\n		\n		Temuco\,\n\n\n\n	Chile\n\n\n\n\n\n\n	\n\n\n\n		\n	\n				\n				\n				\n					\n				\n					\n				\n					\n		\n					\n		\n				\n				\n					Más información:				\n				\n				\n						\n					\n			\n						\n				\n					\n	\n\n	Categorías:	\n		Concierto	\n\n				\n				\n				\n				\n					\n	\n			\n			Academia de Artes Musicales			\n	\n\n	\n	\n\n	Teléfono:\n					\n			+56 45 2205226			\n	 \n\n\n\n				\n				\n					\n		\n				\n			\n						\n				\n					\n	\n	\n	 \n\n\n	\n					\n			academiadeartesmusicales@uct.cl			\n	 \n\n\n\n				\n				\n		\n				\n				\n					¡Agenda el evento!				\n				\n				\n				\n					\n	\n		\n\n	\n	Añadir al calendario	\n		\n	\n\n		\n			\n									\n	Google Calendar\n\n									\n	iCalendar\n\n									\n	Outlook 365\n\n									\n	Outlook Live\n\n							\n		\n\n		\n	\n\n				\n				\n				\n				\n					\n	\n		\n			\n			\n\n			\n	\n			\n\n\n			\n	\n		Éxtasis en Dos Guitarras	\n\n\n			\n			\n	Hooray! \n		\n	\n\n				\n				\n				\n					\n		\n					\n		\n					\n		\n					\n		\n		\n					\n				\n				\n					\n	\n		\n\n				Exposición Witral Sala Exposiciones	\n\n\n		\n	\n		Orquesta Latinoamericana de Cunco
URL:https://extension.uct.cl/event/extasis-en-dos-guitarras/
LOCATION:Aula Magna\, Manuel Montt 056\, Temuco\, Chile
CATEGORIES:Concierto
ATTACH;FMTTYPE=image/png:https://extension.uct.cl/wp-content/uploads/orlandoluco.png
ORGANIZER;CN="Academia de Artes Musicales":MAILTO:academiadeartesmusicales@uct.cl
END:VEVENT
END:VCALENDAR