BEGIN:VCALENDAR
VERSION:2.0
PRODID:-//Universidad Católica de Temuco - ECPv6.15.17.1//NONSGML v1.0//EN
CALSCALE:GREGORIAN
METHOD:PUBLISH
X-WR-CALNAME:Universidad Católica de Temuco
X-ORIGINAL-URL:https://extension.uct.cl
X-WR-CALDESC:Eventos para Universidad Católica de Temuco
REFRESH-INTERVAL;VALUE=DURATION:PT1H
X-Robots-Tag:noindex
X-PUBLISHED-TTL:PT1H
BEGIN:VTIMEZONE
TZID:America/Santiago
BEGIN:STANDARD
TZOFFSETFROM:-0300
TZOFFSETTO:-0400
TZNAME:-04
DTSTART:20240407T030000
END:STANDARD
BEGIN:DAYLIGHT
TZOFFSETFROM:-0400
TZOFFSETTO:-0300
TZNAME:-03
DTSTART:20240908T040000
END:DAYLIGHT
BEGIN:STANDARD
TZOFFSETFROM:-0300
TZOFFSETTO:-0400
TZNAME:-04
DTSTART:20250406T030000
END:STANDARD
BEGIN:DAYLIGHT
TZOFFSETFROM:-0400
TZOFFSETTO:-0300
TZNAME:-03
DTSTART:20250907T040000
END:DAYLIGHT
BEGIN:STANDARD
TZOFFSETFROM:-0300
TZOFFSETTO:-0400
TZNAME:-04
DTSTART:20260405T030000
END:STANDARD
BEGIN:DAYLIGHT
TZOFFSETFROM:-0400
TZOFFSETTO:-0300
TZNAME:-03
DTSTART:20260906T040000
END:DAYLIGHT
END:VTIMEZONE
BEGIN:VEVENT
DTSTART;TZID=America/Santiago:20251001T193000
DTEND;TZID=America/Santiago:20251003T180000
DTSTAMP:20260422T210418
CREATED:20250915T130811Z
LAST-MODIFIED:20250916T142117Z
UID:9485-1759347000-1759514400@extension.uct.cl
SUMMARY:Encuentro de Lutería y Guitarra
DESCRIPTION:Cuerdas que narran\, maderas que respiran\nDel 1 al 3 de octubre de 2025. Charlas – Conferencia – Conciertos \nLucas Torres\, guitarra latinoamericana\, miércoles 1- 19:30 hrs Auditorio AAM\, Campus Menchaca Lira \nMiguel Espinoza\, guitarra clásica\, jueves 2 – 19:30 hrs Auditorio AAM\, Campus Menchaca Lira \nAlex Panes\, Guitarra Barroca y Tiorba\, jueves 2 – 19:30 hrs Auditorio AAM\, Campus Menchaca Lira \nAndres Pardo\, Guitarra Latinoamericana Viernes 3 – 19:30 hrs Auditorio H2\, Campus San Francisco *artista invitado: Claudio Aguila \nRoberto Allende\, Luthier Maestro Artesano Aprendiz 2024\, miércoles 1 -11:00 hrs Cecrea \nJulio Muñoz\, Luthier\, jueves 2 – 16:00 hrs. Auditorio Biblioteca\, Campus Norte \nPatricio Lagos\, Luthier\, viernes 3 – 16:00 hrs. Auditorio H2\, Campus San Francisco \n 
URL:https://extension.uct.cl/event/encuentro-de-luteria-y-guitarra/
LOCATION:Auditorio Academia de Artes Musicales\, Avenida Alemania 0422\, Temuco\, Selecciona una provincia:\, Chile
CATEGORIES:Concierto
ATTACH;FMTTYPE=image/webp:https://extension.uct.cl/wp-content/uploads/LUTHIER.webp
ORGANIZER;CN="Academia de Artes Musicales":MAILTO:academiadeartesmusicales@uct.cl
END:VEVENT
END:VCALENDAR