BEGIN:VCALENDAR
VERSION:2.0
PRODID:-//Universidad Católica de Temuco - ECPv6.15.17.1//NONSGML v1.0//EN
CALSCALE:GREGORIAN
METHOD:PUBLISH
X-WR-CALNAME:Universidad Católica de Temuco
X-ORIGINAL-URL:https://extension.uct.cl
X-WR-CALDESC:Eventos para Universidad Católica de Temuco
REFRESH-INTERVAL;VALUE=DURATION:PT1H
X-Robots-Tag:noindex
X-PUBLISHED-TTL:PT1H
BEGIN:VTIMEZONE
TZID:America/Santiago
BEGIN:STANDARD
TZOFFSETFROM:-0300
TZOFFSETTO:-0400
TZNAME:-04
DTSTART:20240407T030000
END:STANDARD
BEGIN:DAYLIGHT
TZOFFSETFROM:-0400
TZOFFSETTO:-0300
TZNAME:-03
DTSTART:20240908T040000
END:DAYLIGHT
BEGIN:STANDARD
TZOFFSETFROM:-0300
TZOFFSETTO:-0400
TZNAME:-04
DTSTART:20250406T030000
END:STANDARD
BEGIN:DAYLIGHT
TZOFFSETFROM:-0400
TZOFFSETTO:-0300
TZNAME:-03
DTSTART:20250907T040000
END:DAYLIGHT
BEGIN:STANDARD
TZOFFSETFROM:-0300
TZOFFSETTO:-0400
TZNAME:-04
DTSTART:20260405T030000
END:STANDARD
BEGIN:DAYLIGHT
TZOFFSETFROM:-0400
TZOFFSETTO:-0300
TZNAME:-03
DTSTART:20260906T040000
END:DAYLIGHT
END:VTIMEZONE
BEGIN:VEVENT
DTSTART;TZID=America/Santiago:20250904T173000
DTEND;TZID=America/Santiago:20250904T183000
DTSTAMP:20260423T002036
CREATED:20250901T164713Z
LAST-MODIFIED:20250901T170243Z
UID:9429-1757007000-1757010600@extension.uct.cl
SUMMARY:Derechos de Autor en el Contexto Institucional
DESCRIPTION:Taller Derechos de Autor en el Contexto Institucional: Gestión Integral de Derechos Morales\nEdiciones UCT junto al Gremio de Editores del Sur\, les invita a participar en la charla: \n“Derechos de Autor en el Contexto Institucional: Gestión Integral de Derechos Morales»\, dirigido por la directora de Innovación y Transferencia Tecnológica\, Blanca Villalobos. \nJueves 4 de septiembre\, 17:30 hrs\, \nSala de Estudios Nº 2\, Biblioteca\, (a un costado de Librería Ediciones UCT) Campus San Francisco.
URL:https://extension.uct.cl/event/derechos-de-autor-en-el-contexto-institucional/
LOCATION:Campus San Francisco\, Manuel Montt 56\, Temuco\, Chile
CATEGORIES:Taller
ATTACH;FMTTYPE=image/webp:https://extension.uct.cl/wp-content/uploads/tsa.webp
ORGANIZER;CN="Ediciones UCT":MAILTO:ediciones@uct.cl
END:VEVENT
END:VCALENDAR