BEGIN:VCALENDAR
VERSION:2.0
PRODID:-//Universidad Católica de Temuco - ECPv6.15.17.1//NONSGML v1.0//EN
CALSCALE:GREGORIAN
METHOD:PUBLISH
X-WR-CALNAME:Universidad Católica de Temuco
X-ORIGINAL-URL:https://extension.uct.cl
X-WR-CALDESC:Eventos para Universidad Católica de Temuco
REFRESH-INTERVAL;VALUE=DURATION:PT1H
X-Robots-Tag:noindex
X-PUBLISHED-TTL:PT1H
BEGIN:VTIMEZONE
TZID:America/Santiago
BEGIN:STANDARD
TZOFFSETFROM:-0300
TZOFFSETTO:-0400
TZNAME:-04
DTSTART:20240407T030000
END:STANDARD
BEGIN:DAYLIGHT
TZOFFSETFROM:-0400
TZOFFSETTO:-0300
TZNAME:-03
DTSTART:20240908T040000
END:DAYLIGHT
BEGIN:STANDARD
TZOFFSETFROM:-0300
TZOFFSETTO:-0400
TZNAME:-04
DTSTART:20250406T030000
END:STANDARD
BEGIN:DAYLIGHT
TZOFFSETFROM:-0400
TZOFFSETTO:-0300
TZNAME:-03
DTSTART:20250907T040000
END:DAYLIGHT
BEGIN:STANDARD
TZOFFSETFROM:-0300
TZOFFSETTO:-0400
TZNAME:-04
DTSTART:20260405T030000
END:STANDARD
BEGIN:DAYLIGHT
TZOFFSETFROM:-0400
TZOFFSETTO:-0300
TZNAME:-03
DTSTART:20260906T040000
END:DAYLIGHT
END:VTIMEZONE
BEGIN:VEVENT
DTSTART;TZID=America/Santiago:20251024T190000
DTEND;TZID=America/Santiago:20251024T210000
DTSTAMP:20260423T015738
CREATED:20251003T145349Z
LAST-MODIFIED:20251003T150407Z
UID:9640-1761332400-1761339600@extension.uct.cl
SUMMARY:Concierto Rodolfo Neptuno
DESCRIPTION:Ciclo de conciertos «Paisajes sonoros de Temuco: una semana de música temuquense»\nRodolfo Contreras Valenzuela\, de Temuco\, Chile. Nacido en 1989\, Compositor\, sonidista y productor musical ha estado presente y vigente musicalmente desde el 2018 con la banda Neptuno. \nEn 2021 produce y lanza su primer EP como artista solista titulado “Las ballenas”\, trabajo que contiene 3 canciones: «Las ballenas»\, «No esta mal» y «Es crecer”\, música con líneas que viajan desde el pop al folk y letras abundantes en el bienestar de lo cotidiano. \nA principios del 2025 Rodolfo Neptuno lanza su 2° EP titulado “Viaje espacial”\, el cual consta de 5 canciones con diversos estilos musicales y sonidos.  \nArtista telonero: Fonso\nDía: viernes 24 de octubre\nHora: 19.00 horas\nLugar: Aula Magna Monseñor Jorge Hourton\, Campus San Francisco (Manuel Montt #056)\nEntrada: Liberada
URL:https://extension.uct.cl/event/concierto-rodolfo-neptuno/
LOCATION:Aula Magna\, Manuel Montt 056\, Temuco\, Chile
CATEGORIES:Concierto
ATTACH;FMTTYPE=image/webp:https://extension.uct.cl/wp-content/uploads/Rodolfo-Neptuno.webp
ORGANIZER;CN="Programa Portal Art%C3%ADstico Aula Magna":MAILTO:aulamagna@uct.cl
END:VEVENT
END:VCALENDAR