BEGIN:VCALENDAR
VERSION:2.0
PRODID:-//Universidad Católica de Temuco - ECPv6.15.17.1//NONSGML v1.0//EN
CALSCALE:GREGORIAN
METHOD:PUBLISH
X-WR-CALNAME:Universidad Católica de Temuco
X-ORIGINAL-URL:https://extension.uct.cl
X-WR-CALDESC:Eventos para Universidad Católica de Temuco
REFRESH-INTERVAL;VALUE=DURATION:PT1H
X-Robots-Tag:noindex
X-PUBLISHED-TTL:PT1H
BEGIN:VTIMEZONE
TZID:America/Santiago
BEGIN:STANDARD
TZOFFSETFROM:-0300
TZOFFSETTO:-0400
TZNAME:-04
DTSTART:20230402T030000
END:STANDARD
BEGIN:DAYLIGHT
TZOFFSETFROM:-0400
TZOFFSETTO:-0300
TZNAME:-03
DTSTART:20230903T040000
END:DAYLIGHT
BEGIN:STANDARD
TZOFFSETFROM:-0300
TZOFFSETTO:-0400
TZNAME:-04
DTSTART:20240407T030000
END:STANDARD
BEGIN:DAYLIGHT
TZOFFSETFROM:-0400
TZOFFSETTO:-0300
TZNAME:-03
DTSTART:20240908T040000
END:DAYLIGHT
BEGIN:STANDARD
TZOFFSETFROM:-0300
TZOFFSETTO:-0400
TZNAME:-04
DTSTART:20250406T030000
END:STANDARD
BEGIN:DAYLIGHT
TZOFFSETFROM:-0400
TZOFFSETTO:-0300
TZNAME:-03
DTSTART:20250907T040000
END:DAYLIGHT
END:VTIMEZONE
BEGIN:VEVENT
DTSTART;TZID=America/Santiago:20240509T180000
DTEND;TZID=America/Santiago:20240509T200000
DTSTAMP:20260423T001933
CREATED:20240510T033101Z
LAST-MODIFIED:20240510T033205Z
UID:5841-1715277600-1715284800@extension.uct.cl
SUMMARY:Concierto Lírico
DESCRIPTION:En esta ocasión\, nos acompañarán dos talentosos artistas: Andrés Silva\, pianista chileno oriundo de Temuco\, y Melisa Gómez\, reconocida soprano del Teatro Municipal de Santiago\, quienes nos ofrecerán un cautivador repertorio que incluirá obras de destacados compositores internacionales como Mahler\, Barber y Ravel.
URL:https://extension.uct.cl/event/concierto-lirico/
LOCATION:Aula Magna\, Manuel Montt 056\, Temuco\, Chile
ATTACH;FMTTYPE=image/png:https://extension.uct.cl/wp-content/uploads/conlir.png
ORGANIZER;CN="Programa Portal Art%C3%ADstico Aula Magna":MAILTO:aulamagna@uct.cl
END:VEVENT
END:VCALENDAR