BEGIN:VCALENDAR
VERSION:2.0
PRODID:-//Universidad Católica de Temuco - ECPv6.15.17.1//NONSGML v1.0//EN
CALSCALE:GREGORIAN
METHOD:PUBLISH
X-WR-CALNAME:Universidad Católica de Temuco
X-ORIGINAL-URL:https://extension.uct.cl
X-WR-CALDESC:Eventos para Universidad Católica de Temuco
REFRESH-INTERVAL;VALUE=DURATION:PT1H
X-Robots-Tag:noindex
X-PUBLISHED-TTL:PT1H
BEGIN:VTIMEZONE
TZID:America/Santiago
BEGIN:STANDARD
TZOFFSETFROM:-0300
TZOFFSETTO:-0400
TZNAME:-04
DTSTART:20240407T030000
END:STANDARD
BEGIN:DAYLIGHT
TZOFFSETFROM:-0400
TZOFFSETTO:-0300
TZNAME:-03
DTSTART:20240908T040000
END:DAYLIGHT
BEGIN:STANDARD
TZOFFSETFROM:-0300
TZOFFSETTO:-0400
TZNAME:-04
DTSTART:20250406T030000
END:STANDARD
BEGIN:DAYLIGHT
TZOFFSETFROM:-0400
TZOFFSETTO:-0300
TZNAME:-03
DTSTART:20250907T040000
END:DAYLIGHT
BEGIN:STANDARD
TZOFFSETFROM:-0300
TZOFFSETTO:-0400
TZNAME:-04
DTSTART:20260405T030000
END:STANDARD
BEGIN:DAYLIGHT
TZOFFSETFROM:-0400
TZOFFSETTO:-0300
TZNAME:-03
DTSTART:20260906T040000
END:DAYLIGHT
END:VTIMEZONE
BEGIN:VEVENT
DTSTART;TZID=America/Santiago:20250613T183000
DTEND;TZID=America/Santiago:20250613T203000
DTSTAMP:20260422T210414
CREATED:20250611T150644Z
LAST-MODIFIED:20250611T151654Z
UID:8926-1749839400-1749846600@extension.uct.cl
SUMMARY:Concierto en Homenaje a Compositores de Norteamérica
DESCRIPTION:El concierto homenaje a compositores de Norteamérica\, nos presentará repertorio del compositor mexicano Manuel Ponce\, y los estadounidenses Catherine Rollin\, William Gillock y Eric Christian. Las obras serán interpretadas por estudiantes del profesor Juan Gonzalo Pinto\, el cual también interpretará obras de estos compositores.
URL:https://extension.uct.cl/event/concierto-en-homenaje-a-compositores-de-norteamerica/
LOCATION:Auditorio Academia de Artes Musicales\, Avenida Alemania 0422\, Temuco\, Selecciona una provincia:\, Chile
CATEGORIES:Concierto
ATTACH;FMTTYPE=image/webp:https://extension.uct.cl/wp-content/uploads/Concierto-de-piano.webp
ORGANIZER;CN="Academia de Artes Musicales":MAILTO:academiadeartesmusicales@uct.cl
END:VEVENT
END:VCALENDAR