BEGIN:VCALENDAR
VERSION:2.0
PRODID:-//Universidad Católica de Temuco - ECPv6.15.17.1//NONSGML v1.0//EN
CALSCALE:GREGORIAN
METHOD:PUBLISH
X-WR-CALNAME:Universidad Católica de Temuco
X-ORIGINAL-URL:https://extension.uct.cl
X-WR-CALDESC:Eventos para Universidad Católica de Temuco
REFRESH-INTERVAL;VALUE=DURATION:PT1H
X-Robots-Tag:noindex
X-PUBLISHED-TTL:PT1H
BEGIN:VTIMEZONE
TZID:America/Santiago
BEGIN:STANDARD
TZOFFSETFROM:-0300
TZOFFSETTO:-0400
TZNAME:-04
DTSTART:20230402T030000
END:STANDARD
BEGIN:DAYLIGHT
TZOFFSETFROM:-0400
TZOFFSETTO:-0300
TZNAME:-03
DTSTART:20230903T040000
END:DAYLIGHT
BEGIN:STANDARD
TZOFFSETFROM:-0300
TZOFFSETTO:-0400
TZNAME:-04
DTSTART:20240407T030000
END:STANDARD
BEGIN:DAYLIGHT
TZOFFSETFROM:-0400
TZOFFSETTO:-0300
TZNAME:-03
DTSTART:20240908T040000
END:DAYLIGHT
BEGIN:STANDARD
TZOFFSETFROM:-0300
TZOFFSETTO:-0400
TZNAME:-04
DTSTART:20250406T030000
END:STANDARD
BEGIN:DAYLIGHT
TZOFFSETFROM:-0400
TZOFFSETTO:-0300
TZNAME:-03
DTSTART:20250907T040000
END:DAYLIGHT
END:VTIMEZONE
BEGIN:VEVENT
DTSTART;TZID=America/Santiago:20240828T180000
DTEND;TZID=America/Santiago:20240828T200000
DTSTAMP:20260423T002206
CREATED:20240806T162250Z
LAST-MODIFIED:20240821T055607Z
UID:6906-1724868000-1724875200@extension.uct.cl
SUMMARY:Concierto El Arte del Piano
DESCRIPTION:Este evento ha pasado. \n				\n				\n		\n					\n		\n					\n				\n				\n					\n	« Todos los Eventos\n 				\n				\n					\n				\n		\n					\n				\n				\n					\n	\n\n	Categorías:	\n		Concierto	\n\n				\n				\n					\n				\n					\n				\n				\n				\n					\n	Concierto El Arte del Piano				\n				\n				\n				\n							\n			\n						\n		\n						\n				\n				\n				\n					"Significa un renacer como músico  y una revelación del instrumento como más que una cadena de notas. Esta nueva canalización de cada obra es lo  que quiero compartir con la gente." señala el intérprete.				\n				\n				\n						\n					\n			\n				\n					\n		\n				\n				\n					\n	\n				\n				\n				\n		\n				\n				\n					¿Cuándo?				\n				\n				\n				\n					\n		\n			28 agosto\n\n	\n\n	  /  \n\n\n7:00 pm\n\n		\n\n\n\n	\n	  -  \n\n9:00 pm\n\n\n\n	\n				\n				\n				\n				\n					\nGratuito 				\n				\n				\n				\n					¿Dónde?				\n				\n				\n				\n					\n				\n				\n	\n		Auditorio Academia de Artes Musicales	\n	\n	Dirección:\n	\n\nAvenida Alemania 0422\n	\n		\n		Temuco\,\n\n	Selecciona una provincia:\n\n\n	Chile\n\n\n\n\n\n\n	\n\n\n\n		\n	\n				\n				\n				\n					\n				\n					\n		\n					\n		\n				\n				\n					Más información:				\n				\n				\n						\n					\n			\n						\n				\n					\n	\n	Organizador\n			\n			Academia de Artes Musicales			\n	\n\n	\n	\n\n	Teléfono:\n					\n			+56 45 2205226			\n	 \n\n\n	\n	Correo electrónico:\n					\n			academiadeartesmusicales@uct.cl			\n	 \n\n\n\n				\n				\n					\n		\n				\n			\n						\n				\n					\n	\n		\n			\n			\n\n			\n	\n			\n\n\n			\n	\n		Concierto El Arte del Piano	\n\n\n			\n			\n	Hooray! \n		\n	\n\n				\n				\n				\n				\n					\n	\n		\n\n	\n	Añadir al calendario	\n		\n	\n\n		\n			\n									\n	Google Calendar\n\n									\n	iCalendar\n\n									\n	Outlook 365\n\n									\n	Outlook Live\n\n							\n		\n\n		\n	\n\n				\n				\n					\n		\n					\n		\n					\n		\n					\n		\n		\n					\n				\n				\n							\n			\n		\n						\n				\n				\n				\n					\n	\n		\n\n				Presentación final 1° Encuentro Regional Juvenil de Música de Cámara	\n\n\n		\n	\n		Jornada de cierre Proyecto Sureñas
URL:https://extension.uct.cl/event/concierto-el-arte-del-piano/
LOCATION:Auditorio Academia de Artes Musicales\, Avenida Alemania 0422\, Temuco\, Selecciona una provincia:\, Chile
CATEGORIES:Concierto
ATTACH;FMTTYPE=image/png:https://extension.uct.cl/wp-content/uploads/elartedelpiano.png
ORGANIZER;CN="Academia de Artes Musicales":MAILTO:academiadeartesmusicales@uct.cl
END:VEVENT
END:VCALENDAR