BEGIN:VCALENDAR
VERSION:2.0
PRODID:-//Universidad Católica de Temuco - ECPv6.15.17.1//NONSGML v1.0//EN
CALSCALE:GREGORIAN
METHOD:PUBLISH
X-WR-CALNAME:Universidad Católica de Temuco
X-ORIGINAL-URL:https://extension.uct.cl
X-WR-CALDESC:Eventos para Universidad Católica de Temuco
REFRESH-INTERVAL;VALUE=DURATION:PT1H
X-Robots-Tag:noindex
X-PUBLISHED-TTL:PT1H
BEGIN:VTIMEZONE
TZID:America/Santiago
BEGIN:STANDARD
TZOFFSETFROM:-0300
TZOFFSETTO:-0400
TZNAME:-04
DTSTART:20240407T030000
END:STANDARD
BEGIN:DAYLIGHT
TZOFFSETFROM:-0400
TZOFFSETTO:-0300
TZNAME:-03
DTSTART:20240908T040000
END:DAYLIGHT
BEGIN:STANDARD
TZOFFSETFROM:-0300
TZOFFSETTO:-0400
TZNAME:-04
DTSTART:20250406T030000
END:STANDARD
BEGIN:DAYLIGHT
TZOFFSETFROM:-0400
TZOFFSETTO:-0300
TZNAME:-03
DTSTART:20250907T040000
END:DAYLIGHT
BEGIN:STANDARD
TZOFFSETFROM:-0300
TZOFFSETTO:-0400
TZNAME:-04
DTSTART:20260405T030000
END:STANDARD
BEGIN:DAYLIGHT
TZOFFSETFROM:-0400
TZOFFSETTO:-0300
TZNAME:-03
DTSTART:20260906T040000
END:DAYLIGHT
END:VTIMEZONE
BEGIN:VEVENT
DTSTART;TZID=America/Santiago:20250426T200000
DTEND;TZID=America/Santiago:20250426T220000
DTSTAMP:20260423T004500
CREATED:20250415T154249Z
LAST-MODIFIED:20250416T145435Z
UID:8463-1745697600-1745704800@extension.uct.cl
SUMMARY:Concierto de Resurrección
DESCRIPTION:La Universidad Católica de Temuco tiene el honor de invitar a toda la comunidad al Concierto de Resurrección\, una noche única junto a nuestros elencos en la Parroquia Perpetuo Socorro. \nBajo la dirección del maestro Eduardo Gajardo Schmidlin\, la Orquesta y Coro Sinfónico UCT interpretarán obras de Mendelssohn\, Haendel\, Mozart\, Brahms\, Puccini\, Mascagni y Verdi. \nContaremos con la participación del violinista Ernesto Niño como solista en el Concierto en mi menor Op. 64. de Felix Mendelssohn. \n 
URL:https://extension.uct.cl/event/concierto-de-resurreccion/
LOCATION:Parroquia Perpetuo Socorro\, Cautín #1880\, Temuco\, Chile
CATEGORIES:Concierto
ATTACH;FMTTYPE=image/webp:https://extension.uct.cl/wp-content/uploads/concierto-resurreccion.webp
ORGANIZER;CN="Academia de Artes Musicales":MAILTO:academiadeartesmusicales@uct.cl
END:VEVENT
END:VCALENDAR