BEGIN:VCALENDAR
VERSION:2.0
PRODID:-//Universidad Católica de Temuco - ECPv6.15.17.1//NONSGML v1.0//EN
CALSCALE:GREGORIAN
METHOD:PUBLISH
X-WR-CALNAME:Universidad Católica de Temuco
X-ORIGINAL-URL:https://extension.uct.cl
X-WR-CALDESC:Eventos para Universidad Católica de Temuco
REFRESH-INTERVAL;VALUE=DURATION:PT1H
X-Robots-Tag:noindex
X-PUBLISHED-TTL:PT1H
BEGIN:VTIMEZONE
TZID:America/Santiago
BEGIN:STANDARD
TZOFFSETFROM:-0300
TZOFFSETTO:-0400
TZNAME:-04
DTSTART:20240407T030000
END:STANDARD
BEGIN:DAYLIGHT
TZOFFSETFROM:-0400
TZOFFSETTO:-0300
TZNAME:-03
DTSTART:20240908T040000
END:DAYLIGHT
BEGIN:STANDARD
TZOFFSETFROM:-0300
TZOFFSETTO:-0400
TZNAME:-04
DTSTART:20250406T030000
END:STANDARD
BEGIN:DAYLIGHT
TZOFFSETFROM:-0400
TZOFFSETTO:-0300
TZNAME:-03
DTSTART:20250907T040000
END:DAYLIGHT
BEGIN:STANDARD
TZOFFSETFROM:-0300
TZOFFSETTO:-0400
TZNAME:-04
DTSTART:20260405T030000
END:STANDARD
BEGIN:DAYLIGHT
TZOFFSETFROM:-0400
TZOFFSETTO:-0300
TZNAME:-03
DTSTART:20260906T040000
END:DAYLIGHT
END:VTIMEZONE
BEGIN:VEVENT
DTSTART;TZID=America/Santiago:20251022T190000
DTEND;TZID=America/Santiago:20251022T210000
DTSTAMP:20260423T015658
CREATED:20251003T132754Z
LAST-MODIFIED:20251003T143628Z
UID:9622-1761159600-1761166800@extension.uct.cl
SUMMARY:Concierto Agrupación Temúsicas
DESCRIPTION:Cantos a Violeta\nCiclo de conciertos «Paisajes sonoros de Temuco: una semana de música temuquense»\nLa agrupación Temúsicas\, agrupación cultural de Mujeres y Disidencias en la Música\, se presentará en este miércoles 22 de octubre a las 19.00 horas\, en el marco de la programación del Portal Artístico Aula Magna. En esta instancia además de música se presentarán distintas exponentes de la danza\, poesía y otras artes:  Soffia Be  – Nawelwenu  – Noise  – Neyenkintulen  – Tribu Reverdecer  – Poetas proyecto Sureñas \nDía: Miércoles 22 de octubre\nHora: 19.00 horas\nLugar: Aula Magna Monseñor Jorge Hourton\, Campus San Francisco (Manuel Montt #056)\nEntrada: Liberada
URL:https://extension.uct.cl/event/concierto-agrupacion-temusicas/
LOCATION:Aula Magna\, Manuel Montt 056\, Temuco\, Chile
CATEGORIES:Concierto
ATTACH;FMTTYPE=image/webp:https://extension.uct.cl/wp-content/uploads/temusicas.webp
ORGANIZER;CN="Programa Portal Art%C3%ADstico Aula Magna":MAILTO:aulamagna@uct.cl
END:VEVENT
END:VCALENDAR