BEGIN:VCALENDAR
VERSION:2.0
PRODID:-//Universidad Católica de Temuco - ECPv6.15.17.1//NONSGML v1.0//EN
CALSCALE:GREGORIAN
METHOD:PUBLISH
X-WR-CALNAME:Universidad Católica de Temuco
X-ORIGINAL-URL:https://extension.uct.cl
X-WR-CALDESC:Eventos para Universidad Católica de Temuco
REFRESH-INTERVAL;VALUE=DURATION:PT1H
X-Robots-Tag:noindex
X-PUBLISHED-TTL:PT1H
BEGIN:VTIMEZONE
TZID:America/Santiago
BEGIN:STANDARD
TZOFFSETFROM:-0300
TZOFFSETTO:-0400
TZNAME:-04
DTSTART:20230402T030000
END:STANDARD
BEGIN:DAYLIGHT
TZOFFSETFROM:-0400
TZOFFSETTO:-0300
TZNAME:-03
DTSTART:20230903T040000
END:DAYLIGHT
BEGIN:STANDARD
TZOFFSETFROM:-0300
TZOFFSETTO:-0400
TZNAME:-04
DTSTART:20240407T030000
END:STANDARD
BEGIN:DAYLIGHT
TZOFFSETFROM:-0400
TZOFFSETTO:-0300
TZNAME:-03
DTSTART:20240908T040000
END:DAYLIGHT
BEGIN:STANDARD
TZOFFSETFROM:-0300
TZOFFSETTO:-0400
TZNAME:-04
DTSTART:20250406T030000
END:STANDARD
BEGIN:DAYLIGHT
TZOFFSETFROM:-0400
TZOFFSETTO:-0300
TZNAME:-03
DTSTART:20250907T040000
END:DAYLIGHT
END:VTIMEZONE
BEGIN:VEVENT
DTSTART;TZID=America/Santiago:20241002T190000
DTEND;TZID=America/Santiago:20241029T190000
DTSTAMP:20260422T224003
CREATED:20240905T165013Z
LAST-MODIFIED:20240905T165106Z
UID:7687-1727895600-1730228400@extension.uct.cl
SUMMARY:Cartografía de sitios de la memoria en la Araucanía
DESCRIPTION:.Cartografía de Sitios de Memoria en la Araucanía\, una aproximación\nfotográfica Es una instancia para valorizar la imagen fotográfica como elemento objeto de construcción colectiva y colaborativa de la memoria histórica\, es un aporte visual en. un esfuerzo por no perderla en generaciones posteriores\, como un referente o guía de lo que se busca mejorar a nivel institucional y social.\nConstruir narrativas personales y subjetivas utilizando la fotografía y cartografía a partir de los relatos existentes que refieren a los lugares físicos\, objetos del patrimonio cultural de un lugar señalado como sitio de memoria o memorial y visibilizarlos cooperando en el proceso de memorialización a modo de mapeo interactivo que nos permite ver a través de los relatos y lenguajes visuales diversos.\nLa fotografía como la ventana que nos permite mirar al pasado\, siendo espectadores y creadores de nuestras historias individuales en torno a la y las historias colectivas.\nDe esta forma\, las imágenes son testimonios que contienen preocupaciones y mensajes particulares. El discurso visual ofrece la posibilidad de “penetrar los ámbitos públicos\, vida cotidiana y valores” (Gutiérrez y Bellindo\, 2005)
URL:https://extension.uct.cl/event/cartografia-de-sitios-de-la-memoria-en-la-araucania-2/
LOCATION:Sala de Exposiciones Campus San Francisco\, Manuel Montt #56\, Temuco\, Chile
CATEGORIES:Exposición
ATTACH;FMTTYPE=image/png:https://extension.uct.cl/wp-content/uploads/cartografia_.png
ORGANIZER;CN="Programa Sala de Exposiciones":MAILTO:salaexposiciones@uct.cl
END:VEVENT
END:VCALENDAR